BEGIN:VCALENDAR
VERSION:2.0
PRODID:-//Apple Inc.//iCal 5.0.2//EN
CALSCALE:GREGORIAN
BEGIN:VTIMEZONE
TZID:Australia/
BEGIN:STANDARD
TZOFFSETFROM:+1100
RRULE:FREQ=YEARLY;BYMONTH=4;BYDAY=1SU
DTSTART:20080406T030000
TZNAME:
TZOFFSETTO:+
END:STANDARD
BEGIN:DAYLIGHT
TZOFFSETFROM:+
RRULE:FREQ=YEARLY;BYMONTH=10;BYDAY=1SU
DTSTART:20081005T020000
TZNAME:AEDT
TZOFFSETTO:+1100
END:DAYLIGHT
END:VTIMEZONE
BEGIN:VEVENT
CREATED:20260425T021845
UID:Property20404537Inspection52745847
DTEND;TZID=Australia/:20200229T113000
TRANSP:OPAQUE
SUMMARY:Open For Inspection: 54 Malabar St, WYNNUM WEST
DESCRIPTION:Stop The Press ... Price Reduction!! ... House Plus Granny Flat!! - There is so much more than meets the eye to this Wynnum West home! 

The number one feature that sets this home apart is the fully self-contained guest accommodation. It's ideal for families looking for separation of space, true independent living, extended family/visitors or maybe even an Airbnb. This is a fantastic investment opportunity as home is currently renting at $640 per week.

As you enter the main home from the front foyer, you are greeted with the spacious air-conditioned living area which gives the family plenty of room to come together, while downstairs offers a huge tiled rumpus area for additional living space or teenage retreat (just under legal height). The spacious timber kitchen offers generous storage, breakfast bar and an adjoining meals area. Completing the upper level are three bedrooms - two with built-in robes and all are steps away from the chic updated family bathroom.

Downstairs, the covered entertaining area overlooks the gardens and rear yard and leads to the private self-contained guest house. This separate air conditioned low-maintenance guest house encompasses a tiled open plan living, dining and kitchen space, one bedroom with built-in robes and a tidy bathroom. 

Moments away from Lindum station with city bound trains, Wynnum Loop bus service several doors away, great schools, nearby Wynnum CBD and Moreton Bay, this one will undoubtedly catch the eye of large/extended families seeking extra space, astute entry point buyers and investors looking for a strong investment return.

Property Snapshot

* Currently tenanted at $640 per week
* Three bedroom high set home plus one bedroom self-contained guest house
* Open designed living with tiled rumpus on lower level
* Double lock up garage plus off-street parking
* Loads of storage space 
* Laundry + extra wc on lower level
* Fully fenced rear yard
* 617sqm block  

Contact Trish Breen to arrange your inspection today!

LAST-MODIFIED:20260425T021845
DTSTAMP:20260425T021845
DTSTART;TZID=Australia/:20200229T110000
LOCATION:54 Malabar St WYNNUM WEST QLD 4178
URL:http://www.remaxadvantage.com.au/20404537
SEQUENCE:0
END:VEVENT
END:VCALENDAR
