BEGIN:VCALENDAR
VERSION:2.0
PRODID:-//Apple Inc.//iCal 5.0.2//EN
CALSCALE:GREGORIAN
BEGIN:VTIMEZONE
TZID:Australia/
BEGIN:STANDARD
TZOFFSETFROM:+1100
RRULE:FREQ=YEARLY;BYMONTH=4;BYDAY=1SU
DTSTART:20080406T030000
TZNAME:
TZOFFSETTO:+
END:STANDARD
BEGIN:DAYLIGHT
TZOFFSETFROM:+
RRULE:FREQ=YEARLY;BYMONTH=10;BYDAY=1SU
DTSTART:20081005T020000
TZNAME:AEDT
TZOFFSETTO:+1100
END:DAYLIGHT
END:VTIMEZONE
BEGIN:VEVENT
CREATED:20260425T021828
UID:Property20417504Inspection52745902
DTEND;TZID=Australia/:20200229T103000
TRANSP:OPAQUE
SUMMARY:Open For Inspection: 14 Edenderry St, MANLY WEST
DESCRIPTION:Welcome Home ... - Peacefully tucked in a tranquil leafy setting this family residence instantly gives you the feeling of "welcome home!!".   Combining classic charm & coastal vibes with stylish interiors, this home is ideal for growing & multi-generational families with living over two levels.

Conveniently positioned close to shopping centres, cafes, child and pet friendly parks, Manly Village and the waterfront. You have your pick of a wide selection of private and public schools, childcare centres and great amenities plus easy access to the Gateway Motorway, Port of Brisbane and the City CBD.  

Property Snapshot: 
 
* Elevated northerly front aspect to capture the bay breezes
* Private, whisper quiet leafy setting
* Classic family living with holiday vibe, complete with iconic pandanus tree  
* Welcoming tiled front portico
* Breezy light-filled open designed living & dining on upper level 
* Easy flow from lounge to front deck
* High ceilings, neutral tones, timber floors
* Sweeping ground level encompasses a rumpus room or teenage hangout
* Well-appointed kitchen with great storage and bench space, gas cooktop & breakfast bar. 
* Sleek family bathroom with separate shower & tub 
* Outdoor covered entertainment area overlooking the back yard, great for family BBQ's. 
* Downstairs full bathroom with shower, laundry, double garage and great off-street parking.
* Lush garden surrounds, fenced, multiple water tanks, new hot water system, gas bottles, 6x solar panels
* Impressive 584sqm allotment
 
Sometimes you just know when you find "the one" so don't delay ... contact Trish Breen to arrange your inspection!

LAST-MODIFIED:20260425T021828
DTSTAMP:20260425T021828
DTSTART;TZID=Australia/:20200229T100000
LOCATION:14 Edenderry St MANLY WEST QLD 4179
URL:http://www.remaxadvantage.com.au/20417504
SEQUENCE:0
END:VEVENT
END:VCALENDAR
