BEGIN:VCALENDAR
VERSION:2.0
PRODID:-//Apple Inc.//iCal 5.0.2//EN
CALSCALE:GREGORIAN
BEGIN:VTIMEZONE
TZID:Australia/
BEGIN:STANDARD
TZOFFSETFROM:+1100
RRULE:FREQ=YEARLY;BYMONTH=4;BYDAY=1SU
DTSTART:20080406T030000
TZNAME:
TZOFFSETTO:+
END:STANDARD
BEGIN:DAYLIGHT
TZOFFSETFROM:+
RRULE:FREQ=YEARLY;BYMONTH=10;BYDAY=1SU
DTSTART:20081005T020000
TZNAME:AEDT
TZOFFSETTO:+1100
END:DAYLIGHT
END:VTIMEZONE
BEGIN:VEVENT
CREATED:20260425T021829
UID:Property20371359Inspection52747085
DTEND;TZID=Australia/:20200229T110000
TRANSP:OPAQUE
SUMMARY:Open For Inspection: 141 Oceana Terrace, LOTA
DESCRIPTION:Character Queenslander - By the Bay - Originally built in 1940 this solid and stylishly renovated Queenslander oozes all the charm and character of yesteryear! One must walk over a gantry style foot bridge before entering this most welcoming two storey family home. Downstairs consists of two bedrooms, a bathroom and a large rumpus room, providing the perfect space for children or guests. Whilst upstairs is the parents retreat with two bedrooms, lounge, kitchen, sitting room, bathroom and front  and rear decks. The huge all weather deck overlooking the backyard will be where you entertain family and friends, have those quiet dining moments or relaxing with a cool drink and book. Just serenity!

Features;
- 4 bedrooms, 2 upstairs and 2 downstairs
- 2 bathrooms, main having the traditional bathtub
- 2 living areas plus sunroom/office
- polished timber floors and extra high ceilings
- modern kitchen with European s/steel appliances
- Miele semi integrated dishwasher
- 35m2 spacious deck overlooking back tropical garden
- downstairs rumpus room includes a study nook
- separate laundry with sufficient bench space
- storage space under stairway includes floor safe
- 35m2 multi-purpose paved area under back deck

Ideally located, being within walking distance to Manly State School, St John Vianney's Catholic School, either Manly or Lota train stations, Esplanade, Wynnum and Manly Boat Harbour and the trendy Manly village. To secure your piece of bayside living call Gordon to arrange your viewing!


LAST-MODIFIED:20260425T021829
DTSTAMP:20260425T021829
DTSTART;TZID=Australia/:20200229T103000
LOCATION:141 Oceana Terrace LOTA QLD 4179
URL:http://www.remaxadvantage.com.au/20371359
SEQUENCE:0
END:VEVENT
END:VCALENDAR
