BEGIN:VCALENDAR
VERSION:2.0
PRODID:-//Apple Inc.//iCal 5.0.2//EN
CALSCALE:GREGORIAN
BEGIN:VTIMEZONE
TZID:Australia/
BEGIN:STANDARD
TZOFFSETFROM:+1100
RRULE:FREQ=YEARLY;BYMONTH=4;BYDAY=1SU
DTSTART:20080406T030000
TZNAME:
TZOFFSETTO:+
END:STANDARD
BEGIN:DAYLIGHT
TZOFFSETFROM:+
RRULE:FREQ=YEARLY;BYMONTH=10;BYDAY=1SU
DTSTART:20081005T020000
TZNAME:AEDT
TZOFFSETTO:+1100
END:DAYLIGHT
END:VTIMEZONE
BEGIN:VEVENT
CREATED:20260425T021929
UID:Property20396447Inspection52747106
DTEND;TZID=Australia/:20200229T100000
TRANSP:OPAQUE
SUMMARY:Open For Inspection: 34B DUNCAN STREET, WYNNUM WEST
DESCRIPTION:Luxurious Immaculate Low Set! - Fully landscaped tropical garden encompasses this luxurious 4 bedroom low set house located in one of Wynnum's most sort after tree lined streets. Perched on 711m2 in a quiet leafy residential street is this award winning Metricon home. Built only 6 years ago the owners have meticulously maintained as if it was brand new, a genuine 'walk in nothing to do home'!
Features;
- 308m2 under roof
- tiled and floating timber floors throughout
- ducted air conditioning, ceiling fans and led lighting
- 2.5kw solar electricity, security system and fully fenced
- large open plan living adjacent to the outdoor dining area
- designer kitchen with butler's pantry, induction cooktop, 900mm oven
- caesar-stone benchtops, undermount sinks, dishwasher
- all bedrooms have built-ins
- large main bedroom with walk-in robe and extra built-ins
- floor to ceiling tiled en-suite, dual vanity and separate toilet
- additional sitting and leisure/study rooms
- separate laundry 
- lock up remote controlled garage with internal access
- fully landscaped 'easy care' tropical garden 

Every window has a garden view. If upsizing or downsizing this immaculate home is the one you must inspect! Close to shops, schools, airports, motorway, golf club and the popular Wynnum and Manly Esplanade. Perfect in every way!! 
Arrange your inspection now and call Gordon on 0418748458.
LAST-MODIFIED:20260425T021929
DTSTAMP:20260425T021929
DTSTART;TZID=Australia/:20200229T093000
LOCATION:34B DUNCAN STREET WYNNUM WEST QLD 4178
URL:http://www.remaxadvantage.com.au/20396447
SEQUENCE:0
END:VEVENT
END:VCALENDAR
