BEGIN:VCALENDAR
VERSION:2.0
PRODID:-//Apple Inc.//iCal 5.0.2//EN
CALSCALE:GREGORIAN
BEGIN:VTIMEZONE
TZID:Australia/
BEGIN:STANDARD
TZOFFSETFROM:+1100
RRULE:FREQ=YEARLY;BYMONTH=4;BYDAY=1SU
DTSTART:20080406T030000
TZNAME:
TZOFFSETTO:+
END:STANDARD
BEGIN:DAYLIGHT
TZOFFSETFROM:+
RRULE:FREQ=YEARLY;BYMONTH=10;BYDAY=1SU
DTSTART:20081005T020000
TZNAME:AEDT
TZOFFSETTO:+1100
END:DAYLIGHT
END:VTIMEZONE
BEGIN:VEVENT
CREATED:20260425T021817
UID:Property20383371Inspection52747108
DTEND;TZID=Australia/:20200229T120000
TRANSP:OPAQUE
SUMMARY:Open For Inspection: 105/48 Bride Street, Wynnum
DESCRIPTION:Luxurious Townhouse with Panoramic Views!! - Brand new luxurious tri-level townhouse in the heart of the Wynnum CBD with sweeping views of the magnificent Moreton Bay. Only just completed this 263m2 home is perfect for the 'downsizer' to have the convenience of the village lifestyle, yet the features of an inner city penthouse.

- double car garage with internal access and storage room
- private courtyard entrance for visitors via Akonna Street
- separate laundry and rumpus room on ground floor
- personal passenger lift servicing all three levels
- level 1 has 3 bedrooms all with built-ins, ceiling fans and laundry chute
- master bedroom has bay views, walk-in robe and double vanity en-suite
- ducted air conditioning, led lighting, cctv, intercom and security fencing
- genuine timber flooring and 'high end' fittings
- open plan kitchen living area encompassing large deck overlooking the bay
- Smeg 5 burner gas c/top, 2x600mm ovens, rangehood & intergrated d/washer
- Butlers pantry has fridge space and built-in microwave
- stone island bench with under-hung sink and gooseneck mixer
- study nook, additional powder room and balcony
- complex has fully maintained pool, sauna, bbq and viewing decks

All this within walking distance to Wynnum Esplanade, supermarkets, shops, train and bus stations, schools, restaurants, clubs, hotels and in the near future a cinema complex! Sellers will look at all serious offers over $1 Million!! 
ENTRANCE FOR INSPECTIONS VIA AKONNA STREET.
LAST-MODIFIED:20260425T021817
DTSTAMP:20260425T021817
DTSTART;TZID=Australia/:20200229T113000
LOCATION:105/48 Bride Street Wynnum QLD 4178
URL:http://www.remaxadvantage.com.au/20383371
SEQUENCE:0
END:VEVENT
END:VCALENDAR
