BEGIN:VCALENDAR
VERSION:2.0
PRODID:-//Apple Inc.//iCal 5.0.2//EN
CALSCALE:GREGORIAN
BEGIN:VTIMEZONE
TZID:Australia/
BEGIN:STANDARD
TZOFFSETFROM:+1100
RRULE:FREQ=YEARLY;BYMONTH=4;BYDAY=1SU
DTSTART:20080406T030000
TZNAME:
TZOFFSETTO:+
END:STANDARD
BEGIN:DAYLIGHT
TZOFFSETFROM:+
RRULE:FREQ=YEARLY;BYMONTH=10;BYDAY=1SU
DTSTART:20081005T020000
TZNAME:AEDT
TZOFFSETTO:+1100
END:DAYLIGHT
END:VTIMEZONE
BEGIN:VEVENT
CREATED:20260425T015813
UID:Property20427639Inspection52747231
DTEND;TZID=Australia/:20200229T104500
TRANSP:OPAQUE
SUMMARY:Open For Inspection: 27a Haig Street, WYNNUM WEST
DESCRIPTION:Under Contract - Having been just renovated and with so many extras, this cute as a button low set brick home resides on a massive 506m2 block in what is fast becoming a very sought-after pocket in the Wynnum golf course precinct. 
The living area is open plan, including the large lounge, kitchen and dining area all with a brand new A/C. The kitchen comes complete with stunning stone tops, breakfast bar, country style cabinetry including feature stained glass cupboards.   
The bathroom is nothing short of spacious with a separate bath and shower plus W/C and heat and exhaust fan. The master bedroom allows plenty of room and includes a new ceiling fan as does the remaining bedrooms. 
The rear covered and lit patio is enormous and can fit the largest of gatherings, perfect for family BBQs or just relax as you look out over the incredibly spacious yard, all fully fenced. There is even a large powered garden shed to fit all your needs. 

Call Shawn & Kym to arrange a private inspection. 
 
Some Features Include
*Lowset Brick home, low maintenance.
*Recent renovations include NEW lighting, NEW ceiling fans, NEW air conditioner, FRESHLEY painted internally, NEW bathroom shower screen, NEW bathroom cabinetry, NEW carpet, NEW window furnishings plus more.
*Large 506m2 block in the sought after Wynnum Golf Course precinct.
*Open plan living including lounge, dining and kitchen.
*Kitchen includes stone bench tops, country cabinetry, breakfast bar, heaps of cupboard and bench space.
*Master bedroom with ceiling fans as too the remaining bedrooms.
*Bathroom including separate spa bath and shower plus W/C with heat and exhaust fans. 
*Massive rear covered & lit patio, perfect for entertaining, family BBQs or the largest of gatherings.
*Fully fenced with colour bond fencing, rear yard allowing plenty of room for kids & pets. Large garden shed. Two car carport.
*Close to all amenities including schools and public transport, short walk to shops and cafes and just a hop, skip and jump to the wonderful foreshore, Wynnum CBD and Cambridge Parade.

LAST-MODIFIED:20260425T015813
DTSTAMP:20260425T015813
DTSTART;TZID=Australia/:20200229T101500
LOCATION:27a Haig Street WYNNUM WEST QLD 4178
URL:http://www.remaxadvantage.com.au/20427639
SEQUENCE:0
END:VEVENT
END:VCALENDAR
