BEGIN:VCALENDAR
VERSION:2.0
PRODID:-//Apple Inc.//iCal 5.0.2//EN
CALSCALE:GREGORIAN
BEGIN:VTIMEZONE
TZID:Australia/
BEGIN:STANDARD
TZOFFSETFROM:+1100
RRULE:FREQ=YEARLY;BYMONTH=4;BYDAY=1SU
DTSTART:20080406T030000
TZNAME:
TZOFFSETTO:+
END:STANDARD
BEGIN:DAYLIGHT
TZOFFSETFROM:+
RRULE:FREQ=YEARLY;BYMONTH=10;BYDAY=1SU
DTSTART:20081005T020000
TZNAME:AEDT
TZOFFSETTO:+1100
END:DAYLIGHT
END:VTIMEZONE
BEGIN:VEVENT
CREATED:20260425T021935
UID:Property20405305Inspection52750341
DTEND;TZID=Australia/:20200229T091500
TRANSP:OPAQUE
SUMMARY:Open For Inspection: 64 Valetta Street, MANLY
DESCRIPTION:VALETTA STREET IS........ LOCATION, LOCATION , LOCATION - You cannot go wrong with a property set in such a fabulous Manly location and only minutes' walk to St John Vianney's and Manly State School, Manly train station, Manly Harbour Village and the waterfront - life is right on your doorstep.

- Three bedrooms including the main which has an ensuite bathroom
- Centrally located kitchen that opens out to the spacious open plan dining and family room
- Separate and equally spacious lounge with added space perfect as a study nook.
- The main bathroom includes a toilet but there third separate one as well
- Carport, workshop and lots of storage available under the house
- Lots of room for the kids or pets to enjoy
- 678m2 Block in prime East of rail location
- Minutes to Manly Village, Restaurants and Marina
- Manly Primary School Catchment Area

Manly is a bayside lifestyle suburb offering waterside walks, cycle paths, boating, weekend craft/produce markets, movies in the park, a Jazz festival, Halloween parade and fireworks.

The Brisbane CBD, domestic and international airports, as well as the new Cruise Terminal are all between a 15 minute and 30 minute drive with direct access to the Port of Brisbane Gateway Arterial Freeway. Also access Brisbane CBD using public transport via train from Manly station or public bus in under 30 minutes.

Don't delay, call our office now to arrange an inspection (07) 3348 0000

Please ensure that you visit the Residential Tenancies Authority QLD's website to view a copy of the:

1). 17a Renting in Queensland Booklet:
https://www.rta.qld.gov.au/Resources/Forms/Forms-for-general-tenancies/Pocket-guide-for-tenants-houses-and-units-Form-17a

2). 18a General Tenancy Agreement
https://www.rta.qld.gov.au/resources/forms/forms-for-general-tenancies/general-tenancy-agreement-form-18a

PLEASE NOTE:
You must read the terms of the Tenancy Agreement prior to applying for the property. A copy is available at our office. We recommend you call our office prior to the inspection to confirm the appointment time as the property may be rented. Each property is open for approx. 10 minutes only, if a property has been leased a leasing consultant will not be attending.
DISCLAIMER: We have not verified whether or not information in this listing is accurate and do not have any belief one way or the other in its accuracy. We do not accept any responsibility to any person for its accuracy and do no more than pass it on. All interested parties should rely upon their own enquiries in order to determine whether or not this information is in fact accurate.
LAST-MODIFIED:20260425T021935
DTSTAMP:20260425T021935
DTSTART;TZID=Australia/:20200229T090000
LOCATION:64 Valetta Street MANLY QLD 4179
URL:http://www.remaxadvantage.com.au/20405305
SEQUENCE:0
END:VEVENT
END:VCALENDAR
