BEGIN:VCALENDAR
VERSION:2.0
PRODID:-//Apple Inc.//iCal 5.0.2//EN
CALSCALE:GREGORIAN
BEGIN:VTIMEZONE
TZID:Australia/
BEGIN:STANDARD
TZOFFSETFROM:+1100
RRULE:FREQ=YEARLY;BYMONTH=4;BYDAY=1SU
DTSTART:20080406T030000
TZNAME:
TZOFFSETTO:+
END:STANDARD
BEGIN:DAYLIGHT
TZOFFSETFROM:+
RRULE:FREQ=YEARLY;BYMONTH=10;BYDAY=1SU
DTSTART:20081005T020000
TZNAME:AEDT
TZOFFSETTO:+1100
END:DAYLIGHT
END:VTIMEZONE
BEGIN:VEVENT
CREATED:20260425T022026
UID:Property19624185Inspection52750345
DTEND;TZID=Australia/:20200229T094500
TRANSP:OPAQUE
SUMMARY:Open For Inspection: 3/178 Stratton Terrace, MANLY
DESCRIPTION:Modern Manly Townhouse - Must See to Appreciate! - Larger than average 3 bedroom, 2 bathroom townhouse spilling over 3 levels

* Each level has 1 bedroom, all bedrooms featuring built in robes and ceiling fans 
* Master bedroom retreat on top floor, complete with ensuite with large spa bath, walk in robe, separate private study with built in desks, shelves and drawers, private balcony, A/C
* Second bathroom on middle floor
* Timber floors and tiles through living areas, carpet in bedrooms
* High ceilings throughout
* Top of the range kitchen appliances - Bosch gas stove, Miele oven, Smeg dishwasher
* Wrap around balcony

All this located within 1 block of the Esplanade capturing Manly's cool bay breezes,and walking distance to heated pool, gymnasium, Manly waterfront Sunday markets, restaurants, bars and shops, 11 km of walking and cycling tracks. 

Please use the booking link to book an inspection, or call our Rentals Team on 07 3348 0000 to arrange a viewing. 

Please ensure that you visit the Residential Tenancies Authority QLD's website to view a copy of the:
1). 17a Renting in Queensland Booklet: http://www.rta.qld.gov.au/form_17a.cfm
2). 18a General Tenancy Agreement: http://www.rta.qld.gov.au/form_18a.cfm 

PLEASE NOTE: You must read the terms of the Tenancy Agreement prior to applying for the property. A copy is available at our office. We recommend you call our office prior to the inspection to confirm the appointment time as the property may be rented. Each property is open for approx. 10 minutes only, if a property has been leased a leasing consultant will not be attending. 

DISCLAIMER: We have not verified whether or not information in this listing is accurate and do not have any belief one way or the other in its accuracy. We do not accept any responsibility to any person for its accuracy and do no more than pass it on. All interested parties should rely upon their own enquiries in order to determine whether or not this information is in fact accurate.

Please note that RE/MAX Advantage does NOT accept online applications through 1Form. Properties MUST be viewed and an application form collected from the viewing or our office.
LAST-MODIFIED:20260425T022026
DTSTAMP:20260425T022026
DTSTART;TZID=Australia/:20200229T093000
LOCATION:3/178 Stratton Terrace MANLY QLD 4179
URL:http://www.remaxadvantage.com.au/19624185
SEQUENCE:0
END:VEVENT
END:VCALENDAR
