BEGIN:VCALENDAR
VERSION:2.0
PRODID:-//Apple Inc.//iCal 5.0.2//EN
CALSCALE:GREGORIAN
BEGIN:VTIMEZONE
TZID:Australia/
BEGIN:STANDARD
TZOFFSETFROM:+1100
RRULE:FREQ=YEARLY;BYMONTH=4;BYDAY=1SU
DTSTART:20080406T030000
TZNAME:
TZOFFSETTO:+
END:STANDARD
BEGIN:DAYLIGHT
TZOFFSETFROM:+
RRULE:FREQ=YEARLY;BYMONTH=10;BYDAY=1SU
DTSTART:20081005T020000
TZNAME:AEDT
TZOFFSETTO:+1100
END:DAYLIGHT
END:VTIMEZONE
BEGIN:VEVENT
CREATED:20260425T022132
UID:Property20159299Inspection52750371
DTEND;TZID=Australia/:20200229T101500
TRANSP:OPAQUE
SUMMARY:Open For Inspection: 13/155 Wynnum Esplanade, Wynnum
DESCRIPTION:BREEZY 2 BEDROOM UNIT WITH SEA VIEWS - This perfectly situated unit showcases a balcony off the lounge with bay and island views and bay breezes. It has two bedrooms, open plan living/dining and kitchen spaces, swimming pool, lock up garage and across the road from the very popular Wynnum wading pool, this unit is a must to inspect. Air conditioning unit installed in the lounge room for all-year-round comfort.

Bus to the city and walking distance to train station.

Directly on the Esplanade, this unit is within walking distance to shops, cafes, parks and is across from the swimming facilities, children's water park and jetty at Wynnum.

Please ensure that you visit the Residential Tenancies Authority QLD's website to view a copy of the:
1). 17a Renting in Queensland Booklet:
http://www.rta.qld.gov.au/form_17a.cfm
2). 18a General Tenancy Agreement
http://www.rta.qld.gov.au/form_18a.cfm
PLEASE NOTE:
You must read the terms of the Tenancy Agreement prior to applying for the property. A copy is available at our office. We recommend you call our office prior to the inspection to confirm the appointment time as the property may be rented. Each show more property is open for approx. 10 minutes only, if a property has been leased a leasing consultant will not be attending.
DISCLAIMER: We have not verified whether or not information in this listing is accurate and do not have any belief one way or the other in its accuracy. We do not accept any responsibility to any person for its accuracy and do no more than pass it on. All interested parties should rely upon their own enquiries in order to determine whether or not this information is in fact accurate
LAST-MODIFIED:20260425T022132
DTSTAMP:20260425T022132
DTSTART;TZID=Australia/:20200229T100000
LOCATION:13/155 Wynnum Esplanade Wynnum QLD 4178
URL:http://www.remaxadvantage.com.au/20159299
SEQUENCE:0
END:VEVENT
END:VCALENDAR
