BEGIN:VCALENDAR
VERSION:2.0
PRODID:-//Apple Inc.//iCal 5.0.2//EN
CALSCALE:GREGORIAN
BEGIN:VTIMEZONE
TZID:Australia/
BEGIN:STANDARD
TZOFFSETFROM:+1100
RRULE:FREQ=YEARLY;BYMONTH=4;BYDAY=1SU
DTSTART:20080406T030000
TZNAME:
TZOFFSETTO:+
END:STANDARD
BEGIN:DAYLIGHT
TZOFFSETFROM:+
RRULE:FREQ=YEARLY;BYMONTH=10;BYDAY=1SU
DTSTART:20081005T020000
TZNAME:AEDT
TZOFFSETTO:+1100
END:DAYLIGHT
END:VTIMEZONE
BEGIN:VEVENT
CREATED:20260425T021844
UID:Property20405577Inspection52750381
DTEND;TZID=Australia/:20200229T104500
TRANSP:OPAQUE
SUMMARY:Open For Inspection: 107 Drayton Tce, Wynnum
DESCRIPTION:APPLICATION APPROVED !!! - VIRTUAL INSPECTION LINKS BELOW...

What a fantastic and rare opportunity for those requiring a genuine "Dual Living Property" or even "Home Office" (Two separate dwellings on the one property)

Working from home and find yourself with not getting away?  How about being able to lock the door and go home.....just a few steps away.  Offsetting your home office costs with this amazing property.  Plenty of on-street parking for your clients.

MAIN HOUSE: Virtual Inspection Link: https://my.matterport.com/show/?m=83KtVBziiae

Having undergone a sensational renovation, you will fall in love with the authentic, yet modern twist on this stunning Queenslander, featuring:

* 2 built in bedrooms with air conditioning in each room and ceiling fans 
* Large lounge with air conditioning and ceiling fan
* Separate dining area with amazing original features
* Brand new bathroom with amazing standalone claw foot bath 
* Brand new kitchen with new state of the art 5 ring gas stove, loads of cupboard space and huge stone benchtop.  Quality appliances including dishwasher and washing machine.
* High ceilings and feature lights throughout
* Oversized front deck, perfect for morning coffee or afternoon wine

SECOND HOUSE: Virtual Inspection Link: https://my.matterport.com/show/?m=3XnLmTGioJu

Beautifully updated and presented, this property also offers:

* 2 large air conditioned bedrooms 
* Lovely bathroom with separate toilet  
* Open plan lounge, dining and kitchen  
* Dishwasher
* Own laundry neatly tucked away behind cupboards
* White plantation shutters on windows

Positioned in a very quiet and private street, magnificently landscaped with spacious, established, native gardens and within easy walking distance to shops, schools, transport and even the Esplanade, you will cherish calling this very unique property, Home!

** FIRST WEEK RENT FREE based on a 12 month lease.

To book a private inspection, call the team at RE/MAX Rentals now on 07 3348 0000.

Please ensure that you visit the Residential Tenancies Authority QLD's website to view a copy of the:
1). 17a Renting in Queensland Booklet:
http://www.rta.qld.gov.au/form_17a.cfm
2). 18a General Tenancy Agreement
http://www.rta.qld.gov.au/form_18a.cfm
PLEASE NOTE:
You must read the terms of the Tenancy Agreement prior to applying for the property. A copy is available at our office. We recommend you call our office prior to the inspection to confirm the appointment time as the property may be rented. Each property is open for approx. 10 minutes only, if a property has been leased a leasing consultant will not be attending.
DISCLAIMER: We have not verified whether or not information in this listing is accurate and do not have any belief one way or the other in its accuracy. We do not accept any responsibility to any person for its accuracy and do no more than pass it on. All interested parties should rely upon their own enquiries in order to determine whether or not this information is in fact accurate.
Please note that RE/MAX Advantage does NOT accept online applications through 1Form. Properties MUST be viewed and an application form collected from the viewing or our office.
LAST-MODIFIED:20260425T021844
DTSTAMP:20260425T021844
DTSTART;TZID=Australia/:20200229T103000
LOCATION:107 Drayton Tce Wynnum QLD 4178
URL:http://www.remaxadvantage.com.au/20405577
SEQUENCE:0
END:VEVENT
END:VCALENDAR
