BEGIN:VCALENDAR
VERSION:2.0
PRODID:-//Apple Inc.//iCal 5.0.2//EN
CALSCALE:GREGORIAN
BEGIN:VTIMEZONE
TZID:Australia/
BEGIN:STANDARD
TZOFFSETFROM:+1100
RRULE:FREQ=YEARLY;BYMONTH=4;BYDAY=1SU
DTSTART:20080406T030000
TZNAME:
TZOFFSETTO:+
END:STANDARD
BEGIN:DAYLIGHT
TZOFFSETFROM:+
RRULE:FREQ=YEARLY;BYMONTH=10;BYDAY=1SU
DTSTART:20081005T020000
TZNAME:AEDT
TZOFFSETTO:+1100
END:DAYLIGHT
END:VTIMEZONE
BEGIN:VEVENT
CREATED:20260425T022052
UID:Property20427918Inspection52750385
DTEND;TZID=Australia/:20200229T111500
TRANSP:OPAQUE
SUMMARY:Open For Inspection: 23 Loynes Street, WYNNUM WEST
DESCRIPTION:Renovated Low Set Brick & Tile Home with Separate Studio - This low set home will be the perfect opportunity for you to have room for the whole family.

Conveniently located, this home is close to local primary and secondary schools, Wynnum Golf Course, local parks, public transport and only a short drive to Wynnum Plaza and Wynnum Esplanade.

Features of this immaculate home;

- Ramps front and back for easy access
- Open plan design living, dining and kitchen
- Polished hardwood floors throughout
- Separate studio offering 4th bedroom or second lounge/rumpus room
- Private rear pergola
- Master bedroom with stylish ensuite
- Renovated main bathroom
- Spacious rear entertainment area
- Double carport
- Air-conditioning for year round comfort
- Low maintenance, landscaped gardens on flat 610sqm.
- Pets on application

Contact the Team at RE/MAX Advantage Rentals now to book your inspection - 07 3348 0000.

Please ensure that you visit the Residential Tenancies Authority QLD's website to view a copy of the:
1). 17a Renting in Queensland Booklet: http://www.rta.qld.gov.au/form_17a.cfm
2). 18a General Tenancy Agreement: http://www.rta.qld.gov.au/form_18a.cfm

PLEASE NOTE: You must read the terms of the Tenancy Agreement prior to applying for the property. A copy is available at our office. We recommend you call our office prior to the inspection to confirm the appointment time as the property may be rented. Each property is open for approx. 10 minutes only, if a property has been leased a leasing consultant will not be attending.

DISCLAIMER: We have not verified whether or not information in this listing is accurate and do not have any belief one way or the other in its accuracy. We do not accept any responsibility to any person for its accuracy and do no more than pass it on. All interested parties should rely upon their own enquiries in order to determine whether or not this information is in fact accurate.

Please note that RE/MAX Advantage does NOT accept online applications through 1Form. Properties MUST be viewed and an application form collected from the viewing or our office.

LAST-MODIFIED:20260425T022052
DTSTAMP:20260425T022052
DTSTART;TZID=Australia/:20200229T110000
LOCATION:23 Loynes Street WYNNUM WEST QLD 4178
URL:http://www.remaxadvantage.com.au/20427918
SEQUENCE:0
END:VEVENT
END:VCALENDAR
