BEGIN:VCALENDAR
VERSION:2.0
PRODID:-//Apple Inc.//iCal 5.0.2//EN
CALSCALE:GREGORIAN
BEGIN:VTIMEZONE
TZID:Australia/
BEGIN:STANDARD
TZOFFSETFROM:+1100
RRULE:FREQ=YEARLY;BYMONTH=4;BYDAY=1SU
DTSTART:20080406T030000
TZNAME:
TZOFFSETTO:+
END:STANDARD
BEGIN:DAYLIGHT
TZOFFSETFROM:+
RRULE:FREQ=YEARLY;BYMONTH=10;BYDAY=1SU
DTSTART:20081005T020000
TZNAME:AEDT
TZOFFSETTO:+1100
END:DAYLIGHT
END:VTIMEZONE
BEGIN:VEVENT
CREATED:20260425T022051
UID:Property10743363Inspection52750388
DTEND;TZID=Australia/:20200229T114500
TRANSP:OPAQUE
SUMMARY:Open For Inspection: 44 Primrose Parade, Wynnum West
DESCRIPTION:Near  New Executive Family Home. - Near  New Executive Family Home.

The home comprises of:
*	5 bedroom - all with ceiling fan and built in mirrored doors
*	2 bathrooms plus powder room- main bathroom with separate bath/shower
*	Media room
*	Open plan lounge/dining
*	Kitchen with butler pantry 
*	5 burner gas hot plate- electric oven- dishwasher
*	Ducted a/c unit throughout
*	Double lock up garage with remote and built in robe - idea for storage
*	Covered back patio
*	Modern neutral colors throughout
*	Quality fitting and fixtures
*	Landscaped gardens

A truly lovely family home that would be a pleasure to call home.

Contact (07) 3348 0000 or click the Book an Inspection Time button to create your own inspection today!!

 Please ensure that you visit the Residential Tenancies Authority QLD's website to view a copy of the:
 1). 17a Renting in Queensland Booklet:
 http://www.rta.qld.gov.au/form_17a.cfm
 2). 18a General Tenancy Agreement
 http://www.rta.qld.gov.au/form_18a.cfm
 PLEASE NOTE:
 You must read the terms of the Tenancy Agreement prior to applying for the property. A copy is available at our office. We recommend you call our office prior to the inspection to confirm the appointment time as the property may be rented. Each property is open for approx. 10 minutes only, if a property has been leased a leasing consultant will not be attending.
 DISCLAIMER: We have not verified whether or not information in this listing is accurate and do not have any belief one way or the other in its accuracy. We do not accept any responsibility to any person for its accuracy and do no more than pass it on. All interested parties should rely upon their own enquiries in order to determine whether or not this information is in fact accurate.
LAST-MODIFIED:20260425T022051
DTSTAMP:20260425T022051
DTSTART;TZID=Australia/:20200229T113000
LOCATION:44 Primrose Parade Wynnum West QLD 4178
URL:http://www.remaxadvantage.com.au/10743363
SEQUENCE:0
END:VEVENT
END:VCALENDAR
