BEGIN:VCALENDAR
VERSION:2.0
PRODID:-//Apple Inc.//iCal 5.0.2//EN
CALSCALE:GREGORIAN
BEGIN:VTIMEZONE
TZID:Australia/
BEGIN:STANDARD
TZOFFSETFROM:+1100
RRULE:FREQ=YEARLY;BYMONTH=4;BYDAY=1SU
DTSTART:20080406T030000
TZNAME:
TZOFFSETTO:+
END:STANDARD
BEGIN:DAYLIGHT
TZOFFSETFROM:+
RRULE:FREQ=YEARLY;BYMONTH=10;BYDAY=1SU
DTSTART:20081005T020000
TZNAME:AEDT
TZOFFSETTO:+1100
END:DAYLIGHT
END:VTIMEZONE
BEGIN:VEVENT
CREATED:20260425T015819
UID:Property20431847Inspection52766025
DTEND;TZID=Australia/:20200307T093000
TRANSP:OPAQUE
SUMMARY:Open For Inspection: 6/52 Yamboyna Street, MANLY
DESCRIPTION:Perfect Home or Investment - Act Quick! - It's time to get excited and grab this opportunity with both hands. This is an opportunity that should not be missed - contact The Gill Team today to secure this property, your next best investment!

Offering low maintenance living at its finest, this well-appointed, 2 bedroom apartment boasts a large, spacious interior and outlook to stunning Moreton Bay. Located in a boutique complex of only 8 apartments and conveniently positioned close to transport connecting you directly to Brisbane CBD, this property is perfect for those that commute while providing a relaxed lifestyle option. 

Features of the property include;

•	Great Floorplan - Master Bedroom with WIR, ensuite, A/C and private balcony
•	500m approx. to the Manly Esplanade, restaurants & cafes
•	Low Body Corporate
•	Manly State School Catchment 
•	Elevated outlook with glimpses of Moreton Bay
•	Double garage plus extra storage
•	Secure boutique complex - only 8 apartments
•	Great Location - Handy to Transport & Shops, restaurants, cafes etc
•	Large secure external storage 
•	Elevated ceilings encouraging spaciousness
•	Kitchen includes Miele appliances
•	Air-Conditioning throughout

Do not delay! This property would make a fantastic investment or home and represents outstanding value in this prime location!! Contact The Gill Team to organise your inspection and secure this property today!

LAST-MODIFIED:20260425T015819
DTSTAMP:20260425T015819
DTSTART;TZID=Australia/:20200307T090000
LOCATION:6/52 Yamboyna Street MANLY QLD 4179
URL:http://www.remaxadvantage.com.au/20431847
SEQUENCE:0
END:VEVENT
END:VCALENDAR
