BEGIN:VCALENDAR
VERSION:2.0
PRODID:-//Apple Inc.//iCal 5.0.2//EN
CALSCALE:GREGORIAN
BEGIN:VTIMEZONE
TZID:Australia/
BEGIN:STANDARD
TZOFFSETFROM:+1100
RRULE:FREQ=YEARLY;BYMONTH=4;BYDAY=1SU
DTSTART:20080406T030000
TZNAME:
TZOFFSETTO:+
END:STANDARD
BEGIN:DAYLIGHT
TZOFFSETFROM:+
RRULE:FREQ=YEARLY;BYMONTH=10;BYDAY=1SU
DTSTART:20081005T020000
TZNAME:AEDT
TZOFFSETTO:+1100
END:DAYLIGHT
END:VTIMEZONE
BEGIN:VEVENT
CREATED:20260425T002307
UID:Property11531823Inspection53775067
DTEND;TZID=Australia/:20210302T173500
TRANSP:OPAQUE
SUMMARY:Open For Inspection: 20 Fortune Esplanade  - Dont USE, Caboolture South
DESCRIPTION:River views await you on 1200m2 of land with side access - In an elevated position and with no rear neighbours, you'll enjoy river and lake vistas and maximum privacy on this expansive 1200m2 river front allotment.

The charming solid brick home awaits new owners to bring their own style and personality, modernise to their own tastes and fill it with family memories for generations to come. 

Downstairs 
~3 Living areas all with glass sliding doors (one could be converted to a 4th bedroom)
~Massive covered entertaining area and courtyard 
~Extra large kitchen 
~Laundry and combined bathroom downstairs 

Upstairs:
~3 good sized bedrooms, Master bedroom with spacious walk-in robe 
~ Two-way bathroom/ensuite  (see floor plan for layout)
~Ceiling fans, blinds and screens, fans throughout 

~Grand brick front fence & gated entrance with electric gate 
~Double garage 
~Fully fenced spacious front and back yard (fence separating the front and back yard), side access
~Air Conditioning to almost every room (7 AC units)
~Rare 1200m2 riverfront block close to town
~1990's AV Jennings home 
~40 minutes to the Sunshine Coast beaches and approx 45 minutes to Brisbane.
~1.4km to Caboolture Station 

 

Proudly Presented by Vicki Ford & Renee Ford Licensed Real Estate Agents.

RE/MAX Victory is independently owned & operated - Situated in Morayfield Rd & Wamuran.
LAST-MODIFIED:20260425T002307
DTSTAMP:20260425T002307
DTSTART;TZID=Australia/:20210302T171500
LOCATION:20 Fortune Esplanade  - Dont USE Caboolture South QLD 4510
URL:https://www.remax.com.au/victory/11531823
SEQUENCE:0
END:VEVENT
END:VCALENDAR
