BEGIN:VCALENDAR
VERSION:2.0
PRODID:-//Apple Inc.//iCal 5.0.2//EN
CALSCALE:GREGORIAN
BEGIN:VTIMEZONE
TZID:Australia/
BEGIN:STANDARD
TZOFFSETFROM:+1100
RRULE:FREQ=YEARLY;BYMONTH=4;BYDAY=1SU
DTSTART:20080406T030000
TZNAME:
TZOFFSETTO:+
END:STANDARD
BEGIN:DAYLIGHT
TZOFFSETFROM:+
RRULE:FREQ=YEARLY;BYMONTH=10;BYDAY=1SU
DTSTART:20081005T020000
TZNAME:AEDT
TZOFFSETTO:+1100
END:DAYLIGHT
END:VTIMEZONE
BEGIN:VEVENT
CREATED:20260425T000456
UID:Property20145741Inspection53775084
DTEND;TZID=Australia/:20210302T161500
TRANSP:OPAQUE
SUMMARY:Open For Inspection: 12 Regents Court, Upper Caboolture
DESCRIPTION:UNDER CONTRACT BY RENEE FORD "CELEBRATE SOONER" - *Quality brick & tile home. 
*Quiet cul-de-sac in Upper Caboolture 
*3 good sized carpeted rooms - 2 with built-ins
*Master bedroom with ensuite, WIR 
*Security screens throughout.
*Covered outdoor entertaining area.
*Fenced with side access. 
*Lawn locker.
*Ready to move straight in 

FYI
*Short walk to the corner shop and bus stops.  
*Very accessible to Kangaroo Bus Lines School Service.
*Close to parks and walking tracks.
*3.9km to Morayfield Shopping Centre 
*Friendly neighbourhood.

UNDER CONTRACT BY RENEE FORD "SELL FOR MORE & CELEBRATE SOONER"

LAST-MODIFIED:20260425T000456
DTSTAMP:20260425T000456
DTSTART;TZID=Australia/:20210302T160000
LOCATION:12 Regents Court Upper Caboolture QLD 4510
URL:https://www.remax.com.au/victory/20145741
SEQUENCE:0
END:VEVENT
END:VCALENDAR
