BEGIN:VCALENDAR
VERSION:2.0
PRODID:-//Apple Inc.//iCal 5.0.2//EN
CALSCALE:GREGORIAN
BEGIN:VTIMEZONE
TZID:Australia/
BEGIN:STANDARD
TZOFFSETFROM:+1100
RRULE:FREQ=YEARLY;BYMONTH=4;BYDAY=1SU
DTSTART:20080406T030000
TZNAME:
TZOFFSETTO:+
END:STANDARD
BEGIN:DAYLIGHT
TZOFFSETFROM:+
RRULE:FREQ=YEARLY;BYMONTH=10;BYDAY=1SU
DTSTART:20081005T020000
TZNAME:AEDT
TZOFFSETTO:+1100
END:DAYLIGHT
END:VTIMEZONE
BEGIN:VEVENT
CREATED:20260425T015901
UID:Property20429035Inspection52751850
DTEND;TZID=Australia/:20200229T104500
TRANSP:OPAQUE
SUMMARY:Open For Inspection: 7 Estate Road, MIDDLE PARK
DESCRIPTION:1st Home Buyers or Investor - This is the perfect home for the 1st Home Buyer or Investor wanting a home with more space and close to all amenities.
There is great separation inside this home, as there are two sitting areas, perfect for when friends come around with the kids. The kitchen is the hub of the home which is open plan and looks out over the entertaining area. 
All the bedrooms are spacious with the master offering a walk-in style wardrobe.
Outside is a large covered entertaining area that overlooks the fully fenced yard where the kids can run around.

HIGHLIGHTS 

* Covered entertaining area

* Two living areas 

* Flat backyard (fenced)

* Central kitchen overlooking the backyard

* Two-way bathroom

* Spacious bedrooms 

* Side access

Positioned in the perfect location and close to absolutely everything, you can walk to schools, shops, parks, cafes, doctors, Coles or catch the bus around the corner into town.

Don't miss out on this wonderful home, call me today for an inspection.
LAST-MODIFIED:20260425T015901
DTSTAMP:20260425T015901
DTSTART;TZID=Australia/:20200229T101500
LOCATION:7 Estate Road MIDDLE PARK QLD 4074
URL:http://4074property.com.au/20429035
SEQUENCE:0
END:VEVENT
END:VCALENDAR
