BEGIN:VCALENDAR
VERSION:2.0
PRODID:-//Apple Inc.//iCal 5.0.2//EN
CALSCALE:GREGORIAN
BEGIN:VTIMEZONE
TZID:Australia/
BEGIN:STANDARD
TZOFFSETFROM:+1100
RRULE:FREQ=YEARLY;BYMONTH=4;BYDAY=1SU
DTSTART:20080406T030000
TZNAME:
TZOFFSETTO:+
END:STANDARD
BEGIN:DAYLIGHT
TZOFFSETFROM:+
RRULE:FREQ=YEARLY;BYMONTH=10;BYDAY=1SU
DTSTART:20081005T020000
TZNAME:AEDT
TZOFFSETTO:+1100
END:DAYLIGHT
END:VTIMEZONE
BEGIN:VEVENT
CREATED:20260425T031614
UID:Property20173754Inspection51689203
DTEND;TZID=Australia/:20190302T103000
TRANSP:OPAQUE
SUMMARY:Open For Inspection: 37 Ligar Street, Colac
DESCRIPTION:Ready for a new era - With a perfect blend of location and potential, this classic Californian bungalow, both ready for renovation and a new era, retains its timeless character and appeal.

Behind the original double front doors you’ll be welcomed by a comfortable interior, featuring 2 downstairs bedrooms, an updated bathroom, spacious lounge (gas heating, split system) and a large kitchen with an adjoining dining area. 
Upstairs you’ll find a 3rd bedroom and a study.
Outside boasts a north facing backyard, loads of undercover area and plenty of shedding. 

Set in the heart of Colac’s most sought-after residential location only metres from schools, kindergarten, bowling club and Lake Colac, rarely do you find a position that can access so much.
LAST-MODIFIED:20260425T031614
DTSTAMP:20260425T031614
DTSTART;TZID=Australia/:20190302T100000
LOCATION:37 Ligar Street Colac VIC 3250
URL:http://www.charlesstewart.com.au/20173754
SEQUENCE:0
END:VEVENT
END:VCALENDAR
