BEGIN:VCALENDAR
VERSION:2.0
PRODID:-//Apple Inc.//iCal 5.0.2//EN
CALSCALE:GREGORIAN
BEGIN:VTIMEZONE
TZID:Australia/
BEGIN:STANDARD
TZOFFSETFROM:+1100
RRULE:FREQ=YEARLY;BYMONTH=4;BYDAY=1SU
DTSTART:20080406T030000
TZNAME:
TZOFFSETTO:+
END:STANDARD
BEGIN:DAYLIGHT
TZOFFSETFROM:+
RRULE:FREQ=YEARLY;BYMONTH=10;BYDAY=1SU
DTSTART:20081005T020000
TZNAME:AEDT
TZOFFSETTO:+1100
END:DAYLIGHT
END:VTIMEZONE
BEGIN:VEVENT
CREATED:20260425T003322
UID:Property20636050Inspection53764841
DTEND;TZID=Australia/:19700101T000000
TRANSP:OPAQUE
SUMMARY:Open For Inspection: 84 Victoria Street, Cobden
DESCRIPTION:Great Investment. Low Maintenance Unit - Auction Location: On Site. 

Here is an opportunity to purchase a low maintenance 2-bedroom unit located in Cobden. The unit has a good-sized lounge area, which is heated by a natural gas heater. The kitchen has an electric stove/oven for cooking and ample storage space.
 Both the two bedrooms have built-in robes and there is a separate toilet and separate laundry, with a linen cupboard and access out to a private courtyard where you could enjoy a barbecue with friends or family, enjoy the easy-to-maintain garden or just relax. The bathroom has a bath with an overhead shower and mobility hand rails.
There is a separate secure garage, which has a remote roll-o-door, and the unit has the added bonus of having security blinds on most of the windows.
LAST-MODIFIED:20260425T003322
DTSTAMP:20260425T003322
DTSTART;TZID=Australia/:19700101T100000
LOCATION:84 Victoria Street Cobden VIC 3266
URL:http://www.charlesstewart.com.au/20636050
SEQUENCE:0
END:VEVENT
END:VCALENDAR
