BEGIN:VCALENDAR
VERSION:2.0
PRODID:-//Apple Inc.//iCal 5.0.2//EN
CALSCALE:GREGORIAN
BEGIN:VTIMEZONE
TZID:Australia/
BEGIN:STANDARD
TZOFFSETFROM:+1100
RRULE:FREQ=YEARLY;BYMONTH=4;BYDAY=1SU
DTSTART:20080406T030000
TZNAME:
TZOFFSETTO:+
END:STANDARD
BEGIN:DAYLIGHT
TZOFFSETFROM:+
RRULE:FREQ=YEARLY;BYMONTH=10;BYDAY=1SU
DTSTART:20081005T020000
TZNAME:AEDT
TZOFFSETTO:+1100
END:DAYLIGHT
END:VTIMEZONE
BEGIN:VEVENT
CREATED:20190228T155739
UID:Property13970845Inspection51678499
DTEND;TZID=Australia/:20190228T135000
TRANSP:OPAQUE
SUMMARY:Open For Inspection: 44 Bay Street, Dunalley
DESCRIPTION:Large family home in the heart of Dunalley - Large modern kitchen with plenty of storage and island bench, dishwasher and gas cooking facilities. Open-plan lounge and dining with wood-heater. 

Upstairs you will find a large parent retreat featuring a good sized bedroom and ensuite. Three large bedrooms downstairs, one includes a walk-in robe and ensuite (3 bathrooms in total). Main bathroom includes shower, vanity, separate bath and toilet. Good sized separate laundry with linen cupboard. 

Outdoors is fully fenced and includes a chook pen, fenced back yard, two large water tanks and two garden sheds plus access to a fruit orchard. Outside pets will be considered. (Large Garage Not Included). **Telephone enquiries between 9:00am - 5:00pm only**



LAST-MODIFIED:20190228T155739
DTSTAMP:20190228T155739
DTSTART;TZID=Australia/:20190228T133000
LOCATION:44 Bay Street Dunalley TAS 7177
URL:http://www.katestoreyrealty.com.au/13970845
SEQUENCE:0
END:VEVENT
END:VCALENDAR
