BEGIN:VCALENDAR
VERSION:2.0
PRODID:-//Apple Inc.//iCal 5.0.2//EN
CALSCALE:GREGORIAN
BEGIN:VTIMEZONE
TZID:Australia/
BEGIN:STANDARD
TZOFFSETFROM:+1100
RRULE:FREQ=YEARLY;BYMONTH=4;BYDAY=1SU
DTSTART:20080406T030000
TZNAME:
TZOFFSETTO:+
END:STANDARD
BEGIN:DAYLIGHT
TZOFFSETFROM:+
RRULE:FREQ=YEARLY;BYMONTH=10;BYDAY=1SU
DTSTART:20081005T020000
TZNAME:AEDT
TZOFFSETTO:+1100
END:DAYLIGHT
END:VTIMEZONE
BEGIN:VEVENT
CREATED:20190228T155302
UID:Property15131645Inspection51680959
DTEND;TZID=Australia/:20190302T121500
TRANSP:OPAQUE
SUMMARY:Open For Inspection: 5 Kentwell Avenue, Thornleigh
DESCRIPTION:Great Family Home - This fantastic sized family home is ideal for a small family or lovely couple. 

Comprises of:

- 3 Bedrooms all with Built in Wardrobes
- A double brick Carport (2x Cars)
- 1 Bathroom
- 2nd Toilet in Laundry
- Polished floorboards
- Tiled kitchen and living areas
- Gas stove and Gas sockets
- Low Maintenance Gardens

Convenient location, close distance to shops, parks, public transport and schools.

PLEASE NOTE: Do NOT enter the premises without being accompanied by a Real Estate Agent.

Disclaimer: "We have been furnished with the above information, however, Homefront give no guarantees, undertakings or warnings concerning the accuracy, completeness or up-to-date nature of the information provided.  All interested parties are responsible for their own independent enquiries in order to determine whether or not this information is in fact accurate.  The property is subject to prior lease or withdrawal."

LAST-MODIFIED:20190228T155302
DTSTAMP:20190228T155302
DTSTART;TZID=Australia/:20190302T120000
LOCATION:5 Kentwell Avenue Thornleigh NSW 2120
URL:http://www.homefront.com.au/15131645
SEQUENCE:0
END:VEVENT
END:VCALENDAR
