BEGIN:VCALENDAR
VERSION:2.0
PRODID:-//Apple Inc.//iCal 5.0.2//EN
CALSCALE:GREGORIAN
BEGIN:VTIMEZONE
TZID:Australia/
BEGIN:STANDARD
TZOFFSETFROM:+1100
RRULE:FREQ=YEARLY;BYMONTH=4;BYDAY=1SU
DTSTART:20080406T030000
TZNAME:
TZOFFSETTO:+
END:STANDARD
BEGIN:DAYLIGHT
TZOFFSETFROM:+
RRULE:FREQ=YEARLY;BYMONTH=10;BYDAY=1SU
DTSTART:20081005T020000
TZNAME:AEDT
TZOFFSETTO:+1100
END:DAYLIGHT
END:VTIMEZONE
BEGIN:VEVENT
CREATED:20190228T154219
UID:Property15396915Inspection51686334
DTEND;TZID=Australia/:20190302T112000
TRANSP:OPAQUE
SUMMARY:Open For Inspection: 6/48 Kedron Brook Road, WILSTON
DESCRIPTION:PRIVATE LEAF LINED WILSTON VILLAGE EXCLUSIVE TOWNHOUSE W/ COURTYARD & AIR CON - Tucked away at the back of this exclusive complex among the trees & in the middle of Wilston Village you will find this beautiful private and whisper quiet townhouse. 

The beautiful home is everything couples, singles or families are looking for in an exclusive and highly desirable location, surrounded by an array of local cafes, bars, shops, transport options & a thriving night life while being only 8 km's to central Brisbane! 

What the property has to offer: 

* 3 bedrooms, all with built in robes 
* Master bedroom w/ ensuite & air conditioning 
* 2 bathrooms upstairs 
* Powder room / toilet - downstairs 
* Open plan kitchen / dining / lounge - air conditioned 
* Modern kitchen with dishwasher
* Courtyard - grassed and fully fenced 
* Carport
* Transport at door & all surrounding transport 
* 8 km's to Brisbane CBD 
* 3 km's to the new Newmarket plaza / Cinemas 
* Surrounded by fitness trails and parks 
* Located in Wilston Village 

This one wont last! Book your inspection today. 


BOOK INSPECTIONS ONLINE - 
Click on the "Book Inspection" or "Request an Inspection" Tab under the open for inspections times - Register your details and attend the inspection of your choice ! 

*** By registering for an inspection you will be INSTANTLY informed of any updates, changes or cancellations for your property appointment. If no one registers for an inspection time - then that inspection may not proceed. If there are no times set for this property yet, STILL REGISTER and as soon as times are set, you will be advised of the date & time

PLEASE NOTE:
The terms of the General Tenancy Agreement that relate to this property including any special conditions are available at www.churchillrealestate.com.au and need to be reviewed prior to lodging an application form
LAST-MODIFIED:20190228T154219
DTSTAMP:20190228T154219
DTSTART;TZID=Australia/:20190302T111000
LOCATION:6/48 Kedron Brook Road WILSTON QLD 4051
URL:http://www.churchillrealestate.com.au/15396915
SEQUENCE:0
END:VEVENT
END:VCALENDAR
