BEGIN:VCALENDAR
VERSION:2.0
PRODID:-//Apple Inc.//iCal 5.0.2//EN
CALSCALE:GREGORIAN
BEGIN:VTIMEZONE
TZID:Australia/
BEGIN:STANDARD
TZOFFSETFROM:+1100
RRULE:FREQ=YEARLY;BYMONTH=4;BYDAY=1SU
DTSTART:20080406T030000
TZNAME:
TZOFFSETTO:+
END:STANDARD
BEGIN:DAYLIGHT
TZOFFSETFROM:+
RRULE:FREQ=YEARLY;BYMONTH=10;BYDAY=1SU
DTSTART:20081005T020000
TZNAME:AEDT
TZOFFSETTO:+1100
END:DAYLIGHT
END:VTIMEZONE
BEGIN:VEVENT
CREATED:20190228T154222
UID:Property15399205Inspection51686336
DTEND;TZID=Australia/:20190302T114000
TRANSP:OPAQUE
SUMMARY:Open For Inspection: 5/16 Suez Street, GORDON PARK
DESCRIPTION:THREE BED TOP FLOOR APARTMENT IN PRIME POSITION - Located on the top floor, this well designed apartment includes 3 bedrooms and has balconies at either side to capture the cooling cross way breezes.

Ideally located in a quiet pocket with almost direct access to the popular Kedron Brook parks & bike ways and surrounded by local cafes, there is plenty on offer here.

The apartment has had a new lick of paint, flooring and blinds to be completely fresh for a new tenant to call home. 

Features include:
- 2 balconies on either side of the apartment. 
- Main bedroom with ensuite & air-con
- Large dining & living area
- Kitchen with dishwasher & plenty of storage
- Ceiling fans throughout 
- New flooring & blinds throughout 
- Freshly painted 
- Single lock-up remote control garage


BOOK INSPECTIONS ONLINE - 
Click on the "Book Inspection" or "Request an Inspection" Tab under the open for inspections times - Register your details and attend the inspection of your choice ! 

*** By registering for an inspection you will be INSTANTLY informed of any updates, changes or cancellations for your property appointment. If no one registers for an inspection time - then that inspection may not proceed. If there are no times set for this property yet, STILL REGISTER and as soon as times are set, you will be advised of the date & time

PLEASE NOTE:
The terms of the General Tenancy Agreement that relate to this property including any special conditions are available at www.churchillrealestate.com.au and need to be reviewed prior to lodging an application form
LAST-MODIFIED:20190228T154222
DTSTAMP:20190228T154222
DTSTART;TZID=Australia/:20190302T113000
LOCATION:5/16 Suez Street GORDON PARK QLD 4031
URL:http://www.churchillrealestate.com.au/15399205
SEQUENCE:0
END:VEVENT
END:VCALENDAR
