BEGIN:VCALENDAR
VERSION:2.0
PRODID:-//Apple Inc.//iCal 5.0.2//EN
CALSCALE:GREGORIAN
BEGIN:VTIMEZONE
TZID:Australia/
BEGIN:STANDARD
TZOFFSETFROM:+1100
RRULE:FREQ=YEARLY;BYMONTH=4;BYDAY=1SU
DTSTART:20080406T030000
TZNAME:
TZOFFSETTO:+
END:STANDARD
BEGIN:DAYLIGHT
TZOFFSETFROM:+
RRULE:FREQ=YEARLY;BYMONTH=10;BYDAY=1SU
DTSTART:20081005T020000
TZNAME:AEDT
TZOFFSETTO:+1100
END:DAYLIGHT
END:VTIMEZONE
BEGIN:VEVENT
CREATED:20190228T160235
UID:Property19223285Inspection51680861
DTEND;TZID=Australia/:20190227T130000
TRANSP:OPAQUE
SUMMARY:Open For Inspection: 19 Wardell Road, LEWISHAM
DESCRIPTION:Large Renovated 3 Bedroom Semi- Detached  Home - The property includes:
- Large living area
- 3 large bedrooms
- Newly renovated eat-in kitchen
- Newly renovated bathroom 
- Brand new timber floating flooring in living areas
- Newly carpeted bedrooms
- External Laundry 
- Newly painted throughout
- parking on side driveway



LAST-MODIFIED:20190228T160235
DTSTAMP:20190228T160235
DTSTART;TZID=Australia/:20190227T124500
LOCATION:19 Wardell Road LEWISHAM NSW 2049
URL:http://krulisresidential.com.au/19223285
SEQUENCE:0
END:VEVENT
END:VCALENDAR
