BEGIN:VCALENDAR
VERSION:2.0
PRODID:-//Apple Inc.//iCal 5.0.2//EN
CALSCALE:GREGORIAN
BEGIN:VTIMEZONE
TZID:Australia/
BEGIN:STANDARD
TZOFFSETFROM:+1100
RRULE:FREQ=YEARLY;BYMONTH=4;BYDAY=1SU
DTSTART:20080406T030000
TZNAME:
TZOFFSETTO:+
END:STANDARD
BEGIN:DAYLIGHT
TZOFFSETFROM:+
RRULE:FREQ=YEARLY;BYMONTH=10;BYDAY=1SU
DTSTART:20081005T020000
TZNAME:AEDT
TZOFFSETTO:+1100
END:DAYLIGHT
END:VTIMEZONE
BEGIN:VEVENT
CREATED:20190228T154414
UID:Property20002861Inspection51681362
DTEND;TZID=Australia/:20190302T121500
TRANSP:OPAQUE
SUMMARY:Open For Inspection: 48 Sidney Parade, HINDMARSH ISLAND
DESCRIPTION:Ideal Permanent Living or Summer Getaway with Views of the River - Open Inspection cancelled today due to family member being in hospital

Spend your summers at this superb holiday home with views to the river. Enjoy the peace and serenity island living has to offer either on a permanent or holiday basis. Spend your days boating and swimming from the public jetty and boat ramp, before retreating to the balcony to take in the sunset with family and friends while enjoying a BBQ.

Open plan living and dining with views from the living area across to the river. Split system air conditioner to keep you cool during the summer months. Let the children to play while you cook in the kitchen overlooking the rear deck and yard. Main bedroom has a 3 door built in robe and ceiling fan while bedrooms 2 & 3 have a ceiling fans.

The man of the house will appreciate the large shed/man cave, which has power connected & room available if you want to install toilet & shower. Fully fenced yard with 2 Rainwater tanks installed and plenty of room in the yard for caravan, boats & jet skis.

The home has been freshly painted throughout with new floorboards, blinds and curtains. For the tech savy buyer the home is ready with internet connection and foxtel dish.

If you want to enjoy the relaxing lifestyle the South Coast has to offer call me today for an inspection on 0402 443 536
LAST-MODIFIED:20190228T154414
DTSTAMP:20190228T154414
DTSTART;TZID=Australia/:20190302T113000
LOCATION:48 Sidney Parade HINDMARSH ISLAND SA 5214
URL:http://www.coast2vines.com.au/20002861
SEQUENCE:0
END:VEVENT
END:VCALENDAR
