BEGIN:VCALENDAR
VERSION:2.0
PRODID:-//Apple Inc.//iCal 5.0.2//EN
CALSCALE:GREGORIAN
BEGIN:VTIMEZONE
TZID:Australia/
BEGIN:STANDARD
TZOFFSETFROM:+1100
RRULE:FREQ=YEARLY;BYMONTH=4;BYDAY=1SU
DTSTART:20080406T030000
TZNAME:
TZOFFSETTO:+
END:STANDARD
BEGIN:DAYLIGHT
TZOFFSETFROM:+
RRULE:FREQ=YEARLY;BYMONTH=10;BYDAY=1SU
DTSTART:20081005T020000
TZNAME:AEDT
TZOFFSETTO:+1100
END:DAYLIGHT
END:VTIMEZONE
BEGIN:VEVENT
CREATED:20190228T155448
UID:Property20008267Inspection51683873
DTEND;TZID=Australia/:20190302T103000
TRANSP:OPAQUE
SUMMARY:Open For Inspection: 1 Kintore Lane, UPPER COOMERA
DESCRIPTION:STYLISH, CONTEMPORARY.... PERFECTION PERSONIFIED.. - Idyllically positioned in a enclave of only a few exclusive homes, this 18 month old custom designed contemporary Coral Homes built residence delivers incomparable executive luxury with a sophisticated sense of style.

A masterful combination of space and light dominates this state-of-the-art family residence offering every conceivable modern luxury over a single levels where large areas of glass provide tranquil vistas to the outdoor areas and delivers perfect family living and entertaining spaces. 

Completed in 2017 with streamlined street appeal and multiple living zones, this four-bedroom design has the sought-after balance of easy maintenance and impressive spaciousness. Expansively proportioned open plan living and dining spaces, plus separate media room with EPSON equipped projector and screen and third zone for the kid's retreat is a masterful combination.

Catering to any culinary challenge, the sublime, state of the art Caesar-stone kitchen with pendant lighting is fully appointed with Technika free-standing gas cooking, dishwasher walk-in pantry and glass splash back. The beautiful main bedroom with walk-in robes, plantation shutters and lavish designer ensuite is accompanied by three additional double bedrooms with built in robes and a fashionable shared second bathroom with stone bench-top and bath.

The ideal environment for indoor/outdoor relaxing or entertaining family and friends awaits with under roof-line alfresco that spills over effortlessly to the easy care, exquisitely manicured private, fully fenced rear yard for pets and play.. To complete this turn-key perfection is double gated side access for off-street parking, additional laid concrete for basketball and insulated roof AND walls...

Impeccably appointed with 7-zone Daikin ducted air-con/heating, CCTV security, NBN, Clipsal electrical throughout, separate laundry and double lock-up garage with epoxy flooring. Desirably located in Stocklands Highland Reserve at the foothills of Mount Tamborine in moments from Highland Reserve Primary School, shops and cafes, the Coomera River plus easy access to many of Gold Coasts finest schools and public transport options.

LAST-MODIFIED:20190228T155448
DTSTAMP:20190228T155448
DTSTART;TZID=Australia/:20190302T100000
LOCATION:1 Kintore Lane UPPER COOMERA QLD 4209
URL:finesseproperty.com.au//20008267
SEQUENCE:0
END:VEVENT
END:VCALENDAR
