BEGIN:VCALENDAR
VERSION:2.0
PRODID:-//Apple Inc.//iCal 5.0.2//EN
CALSCALE:GREGORIAN
BEGIN:VTIMEZONE
TZID:Australia/
BEGIN:STANDARD
TZOFFSETFROM:+1100
RRULE:FREQ=YEARLY;BYMONTH=4;BYDAY=1SU
DTSTART:20080406T030000
TZNAME:
TZOFFSETTO:+
END:STANDARD
BEGIN:DAYLIGHT
TZOFFSETFROM:+
RRULE:FREQ=YEARLY;BYMONTH=10;BYDAY=1SU
DTSTART:20081005T020000
TZNAME:AEDT
TZOFFSETTO:+1100
END:DAYLIGHT
END:VTIMEZONE
BEGIN:VEVENT
CREATED:20190228T155246
UID:Property20018865Inspection51680916
DTEND;TZID=Australia/:20190302T100000
TRANSP:OPAQUE
SUMMARY:Open For Inspection: 6 Mona Street, WAHROONGA
DESCRIPTION:Enchanting One Bedroom Self Contained! - Located in a whisper quiet cul de sac with serene and peaceful surrounds.

Spacious and charming 1 bedroom self contained garden abode.

Offering a large open plan living area with own private patio overlooking an exquisite garden and leafy setting.

Features timber parquetry flooring, high ceilings, reverse cycle split air conditioning and light and airy atmosphere.

Large bedroom with built in cupboard.

Delightful kitchenette and bathroom with it's own laundry.

Conveniently located to  Wahroonga train station and village shops and cafes.

Also within close proximity to Eastern Road shops and Bush and Prouille primary schools.

Available Now.

Disclaimer: "We have been furnished with the above information, however, Homefront give no guarantees, undertakings or warnings concerning the accuracy, completeness or up-to-date nature of the information provided.  All interested parties are responsible for their own independent enquiries in order to determine whether or not this information is in fact accurate.
LAST-MODIFIED:20190228T155246
DTSTAMP:20190228T155246
DTSTART;TZID=Australia/:20190302T094500
LOCATION:6 Mona Street WAHROONGA NSW 2076
URL:http://www.homefront.com.au/20018865
SEQUENCE:0
END:VEVENT
END:VCALENDAR
