BEGIN:VCALENDAR
VERSION:2.0
PRODID:-//Apple Inc.//iCal 5.0.2//EN
CALSCALE:GREGORIAN
BEGIN:VTIMEZONE
TZID:Australia/
BEGIN:STANDARD
TZOFFSETFROM:+1100
RRULE:FREQ=YEARLY;BYMONTH=4;BYDAY=1SU
DTSTART:20080406T030000
TZNAME:
TZOFFSETTO:+
END:STANDARD
BEGIN:DAYLIGHT
TZOFFSETFROM:+
RRULE:FREQ=YEARLY;BYMONTH=10;BYDAY=1SU
DTSTART:20081005T020000
TZNAME:AEDT
TZOFFSETTO:+1100
END:DAYLIGHT
END:VTIMEZONE
BEGIN:VEVENT
CREATED:20190228T155217
UID:Property20034228Inspection51681880
DTEND;TZID=Australia/:20190303T124600
TRANSP:OPAQUE
SUMMARY:Open For Inspection: 7 Egan Court, BLACKS BEACH
DESCRIPTION:DESIGNER HOME READY TO MOVE IN NOW - This designer 4 bedroom home has lovely polished timber floors and a delightful open plan living which opens out to outside deck that overlooks the parkland behind. Fully air conditioned with split systems, bedrooms and living area, the main bedroom has polished timber floors with well laid out ensuite and walk-in robe. The other three bedrooms have built-ins, ceiling fans and carpets. The side deck faces east and thus avoids the hot western summer sun. There is a two bay shed / garage with two bay carport on the upper southern side. Currently vacant can be viewed most anytime or at Open Houses.  Vendor wants SOLD.


Disclaimer; The Agent does not give any warranty as to errors or omissions, if any, in these particulars, which they believe to be accurate when compiled.

LAST-MODIFIED:20190228T155217
DTSTAMP:20190228T155217
DTSTART;TZID=Australia/:20190303T120100
LOCATION:7 Egan Court BLACKS BEACH QLD 4740
URL:http://www.hughreilly.com.au/20034228
SEQUENCE:0
END:VEVENT
END:VCALENDAR
