BEGIN:VCALENDAR
VERSION:2.0
PRODID:-//Apple Inc.//iCal 5.0.2//EN
CALSCALE:GREGORIAN
BEGIN:VTIMEZONE
TZID:Australia/
BEGIN:STANDARD
TZOFFSETFROM:+1100
RRULE:FREQ=YEARLY;BYMONTH=4;BYDAY=1SU
DTSTART:20080406T030000
TZNAME:
TZOFFSETTO:+
END:STANDARD
BEGIN:DAYLIGHT
TZOFFSETFROM:+
RRULE:FREQ=YEARLY;BYMONTH=10;BYDAY=1SU
DTSTART:20081005T020000
TZNAME:AEDT
TZOFFSETTO:+1100
END:DAYLIGHT
END:VTIMEZONE
BEGIN:VEVENT
CREATED:20190228T155309
UID:Property20091974Inspection51683693
DTEND;TZID=Australia/:20190302T140000
TRANSP:OPAQUE
SUMMARY:Open For Inspection: 488A Pennant Hills Road, WEST PENNANT HILLS
DESCRIPTION:Deceased Estate - App 1600sqm - A superb opportunity to own a valuable piece of real estate that provides an abundance of redevelopment potential STCA .

Get in early and secure your investment before the opening of North connect tunnel as properties of this calibre will not be available in this price range.

Character and spacious single level brick residence that is in need of restoration.

This charming and graceful home which features high ceilings, wide cornices and lovely timber features will appeal to those who would like to return it to its glory days.

Privately positioned, set well back and situated on a near level massive size block with an old in-ground pool which needs TLC.

Comprises of 4 great size bedrooms, ballroom size lounge, separate dining and large kitchen with ample cupboard space.

Great size main bathroom.

Double garage with internal access.

Close proximity to Pennant Hills rail, bus stop close by, both Pennant Hills and West Pennant Hills shopping village and centre.

A selection of fine schools in the area.

To be auctioned on site Saturday 23rd March 2019 @ 2.00pm

NB - Pre building and pest inspection report available for perusal purposes only.

When inspecting property please park car in Hull Road.

Disclaimer: "We have been furnished with the above information, however, Homefront give no guarantees, undertakings or warnings concerning the accuracy, completeness or up-to-date nature of the information provided.  All interested parties are responsible for their own independent enquiries in order to determine whether or not this information is in fact accurate."
LAST-MODIFIED:20190228T155309
DTSTAMP:20190228T155309
DTSTART;TZID=Australia/:20190302T131500
LOCATION:488A Pennant Hills Road WEST PENNANT HILLS NSW 2125
URL:http://www.homefront.com.au/20091974
SEQUENCE:0
END:VEVENT
END:VCALENDAR
