BEGIN:VCALENDAR
VERSION:2.0
PRODID:-//Apple Inc.//iCal 5.0.2//EN
CALSCALE:GREGORIAN
BEGIN:VTIMEZONE
TZID:Australia/
BEGIN:STANDARD
TZOFFSETFROM:+1100
RRULE:FREQ=YEARLY;BYMONTH=4;BYDAY=1SU
DTSTART:20080406T030000
TZNAME:
TZOFFSETTO:+
END:STANDARD
BEGIN:DAYLIGHT
TZOFFSETFROM:+
RRULE:FREQ=YEARLY;BYMONTH=10;BYDAY=1SU
DTSTART:20081005T020000
TZNAME:AEDT
TZOFFSETTO:+1100
END:DAYLIGHT
END:VTIMEZONE
BEGIN:VEVENT
CREATED:20190228T154805
UID:Property20108576Inspection51678435
DTEND;TZID=Australia/:20190302T113000
TRANSP:OPAQUE
SUMMARY:Open For Inspection: 14 O'Neill Street, Coffs Harbour
DESCRIPTION:A little grandeur conveniently located...NOW REDUCED! - Jump now! 14 O'Neil Street has now been REDUCED TO MEET THE MARKET! 

Centrally located in Coffs Harbour, 14 O'Neill Street sits proudly on the high side of the street with a very pleasant green outlook across the road.  You certainly notice the quality and presence from the curb side.

As you enter the home, the front porch and entry invites you in, with a feeling of spaciousness and intrigue.  The open plan living with high ceilings, is fresh, airy and picturesque, with an air-conditioner keeping the temperature perfect.  

The views through each window is of mature gardens or reserve across the road, very private and pleasant indeed.  

The kitchen also enjoys this green outlook from all its windows.  White cabinetry, fresh with quality appliances, a near new dishwasher and large pantry.  The kitchen overlooks the rear terraced yard, and the paved entertaining area for those quiet afternoon BBQ's with family.

Not many homes, have a master suite like this one!!  The main bedroom is spacious and light with glass panels punching beautiful northern light into the room.  Wishing on a star, is a dream come true in this room, literally viewing the stars from your bed!  An ensuite of course, plus loads of robes, but the best, is the sitting area, a decadent extra space for parents to retreat.

The central staircase leads you comfortably, with a little grandeur to the next level.  Ducted air-conditioning up here, keeps this level comfortable.   Upstairs is a modern bathroom and separate toilet, plus three further bedrooms and laundry.  The laundry is appropriately located near all the family action, and opens to the rear yard, near the cloths line.

The double garage has high ceilings and access under the house.  It is sufficient protection for the cars, plus that little bit extra storage when needed.

Conveniently located near the Plaza and Homebase Shopping centres.  Schools, basketball stadium and beautiful Macauley's beach only a few minutes' drive.  O'Neil Street in central Coffs, such a convenient, quality quiet place to live.   

This home is of quality, it's very obvious it has been loved and well looked after.  We welcome your inspection, please arrange by calling Linda Nolan 0402 321 831 at Excel Property Agency.

Land size; 783m2   Rates; $2,797.99 pa   Zoning; R2

Gas bayonet downstairs    Air-Conditioning unit downstairs, ducted upstairs

LAST-MODIFIED:20190228T154805
DTSTAMP:20190228T154805
DTSTART;TZID=Australia/:20190302T110000
LOCATION:14 O'Neill Street Coffs Harbour NSW 2450
URL:http://www.excelpa.com.au/20108576
SEQUENCE:0
END:VEVENT
END:VCALENDAR
