BEGIN:VCALENDAR
VERSION:2.0
PRODID:-//Apple Inc.//iCal 5.0.2//EN
CALSCALE:GREGORIAN
BEGIN:VTIMEZONE
TZID:Australia/
BEGIN:STANDARD
TZOFFSETFROM:+1100
RRULE:FREQ=YEARLY;BYMONTH=4;BYDAY=1SU
DTSTART:20080406T030000
TZNAME:
TZOFFSETTO:+
END:STANDARD
BEGIN:DAYLIGHT
TZOFFSETFROM:+
RRULE:FREQ=YEARLY;BYMONTH=10;BYDAY=1SU
DTSTART:20081005T020000
TZNAME:AEDT
TZOFFSETTO:+1100
END:DAYLIGHT
END:VTIMEZONE
BEGIN:VEVENT
CREATED:20190228T155047
UID:Property20119495Inspection51678256
DTEND;TZID=Australia/:20190302T113000
TRANSP:OPAQUE
SUMMARY:Open For Inspection: 1 Vesperman Road, GLENORIE
DESCRIPTION:HAWKHURST RIDGE - GLENORIE - HILLS SHIRE COUNCIL - Greenwood Group Realtors Welcome you to Hawkhurst Ridge, Glenorie's premier development. We are selling - Stunning Blue Mountain views.
Attached to 4,000, 6,000, 7,000, 9,000 and 10,000m2 lots. Hawkhurst Ridge is a community of 12 huge residential lots up to 2,5 acres with a brand new road system. Surrounded by nature and nestled away from traffic down its own private road , Shelley lane - it is unlike any other development in the district.
The end of Vesperman Road become Shell Lane ie NO THROUGH ROAD and FAMILY FRIENDLY - kids can cycle in the road with no fear. There will only ever be - 12 families who use this road.
Not only do you own your lot but also approximately 1/12 of the 60 acres!

* Space to run and room to breathe.
* Your glorious country refuge
* Not too far and not too close
* Not too big and not too small
* A secluded 59 acre estate with its own tennis court, bush walks and an idyllic dam, with nature all around
* Located conveniently near Glenorie Village ( 5 mins)  and local schools with easy access to Castle Hill, Rouse Hill and Dural.

We look forward to  meeting you @ the onsite Tennis Court, Shelley Lane, Off Vesperman Road, Off Cattai Ridge Road, Off Old Northern Road.
LAST-MODIFIED:20190228T155047
DTSTAMP:20190228T155047
DTSTART;TZID=Australia/:20190302T103000
LOCATION:1 Vesperman Road GLENORIE NSW 2157
URL:http://www.greenwoodgroup.com.au/20119495
SEQUENCE:0
END:VEVENT
END:VCALENDAR
