BEGIN:VCALENDAR
VERSION:2.0
PRODID:-//Apple Inc.//iCal 5.0.2//EN
CALSCALE:GREGORIAN
BEGIN:VTIMEZONE
TZID:Australia/
BEGIN:STANDARD
TZOFFSETFROM:+1100
RRULE:FREQ=YEARLY;BYMONTH=4;BYDAY=1SU
DTSTART:20080406T030000
TZNAME:
TZOFFSETTO:+
END:STANDARD
BEGIN:DAYLIGHT
TZOFFSETFROM:+
RRULE:FREQ=YEARLY;BYMONTH=10;BYDAY=1SU
DTSTART:20081005T020000
TZNAME:AEDT
TZOFFSETTO:+1100
END:DAYLIGHT
END:VTIMEZONE
BEGIN:VEVENT
CREATED:20190228T160000
UID:Property20119527Inspection51668457
DTEND;TZID=Australia/:19700101T000000
TRANSP:OPAQUE
SUMMARY:Open For Inspection: 12 Holman Street, PORT KEMBLA
DESCRIPTION:Outstanding Value for First Home Buyer or Investor - Well maintained and tastefully renovated 3 bedroom home with lock up garage on the lower end of a quiet cul-de-sac. This home instantly welcomes you with a warm ambiance the minute you walk through the front door. The high ceilings, polished timber floor and skylight all add to the character and charm of this naturally lit and spacious abode. The huge fully fenced back yard gives plenty of space for a young family, pets and possible extension (STCA).  

Conveniently located close to Warrawong Plaza , Warrawong CBD  Services and  near the iconic Port Kembla Beach and Pools this home offers value and is keenly priced  in today's market .  

Features 
Land size - 778m2
3 Bedrooms 
Spacious Living areas 
Contemporary Kitchen with Tiles 
High Ceilings with polished Timber Floor
Bathroom and Laundry 
Lock up Garage  

Call for more information ..............

LAST-MODIFIED:20190228T160000
DTSTAMP:20190228T160000
DTSTART;TZID=Australia/:19700101T100000
LOCATION:12 Holman Street PORT KEMBLA NSW 2505
URL:http://www.masterproperties.com.au/20119527
SEQUENCE:0
END:VEVENT
END:VCALENDAR
