BEGIN:VCALENDAR
VERSION:2.0
PRODID:-//Apple Inc.//iCal 5.0.2//EN
CALSCALE:GREGORIAN
BEGIN:VTIMEZONE
TZID:Australia/
BEGIN:STANDARD
TZOFFSETFROM:+1100
RRULE:FREQ=YEARLY;BYMONTH=4;BYDAY=1SU
DTSTART:20080406T030000
TZNAME:
TZOFFSETTO:+
END:STANDARD
BEGIN:DAYLIGHT
TZOFFSETFROM:+
RRULE:FREQ=YEARLY;BYMONTH=10;BYDAY=1SU
DTSTART:20081005T020000
TZNAME:AEDT
TZOFFSETTO:+1100
END:DAYLIGHT
END:VTIMEZONE
BEGIN:VEVENT
CREATED:20190228T154236
UID:Property20120593Inspection51687676
DTEND;TZID=Australia/:20190302T153000
TRANSP:OPAQUE
SUMMARY:Open For Inspection: 3 Sandwell Way, Brabham
DESCRIPTION:LAND + FREE HOUSE!  $299,000 + view anytime this w/end - The prefect home for those needing wheelchair access or the older person downsizing.  
Fully kitted out to accommodate wheelchair access with generous proportions and situated across the road from beautiful Heiler parkland.
Two huge bedrooms  and massive hallway entries. Ideal for investors as demand is solid  for a rent back  Hush windows to main living zones for minimizing  security and noise 
NBN connected 
Reverse cycle Daikin quality air conditioning, 
Gas cooking with LED range hood/ Gas Hot Water/ LED  means lower cost living. 
All set on a low maintenance block with undercover rear patio and nice breezes. 
Train line proposed for Ellenbrook and bus stop close by. 
Double sectional lock up garage Step free home!.
This property will spin your wheels so take your brake off  for this one.
LAST-MODIFIED:20190228T154236
DTSTAMP:20190228T154236
DTSTART;TZID=Australia/:20190302T150000
LOCATION:3 Sandwell Way Brabham WA 6055
URL:http://www.citytosurf.net.au/20120593
SEQUENCE:0
END:VEVENT
END:VCALENDAR
