BEGIN:VCALENDAR
VERSION:2.0
PRODID:-//Apple Inc.//iCal 5.0.2//EN
CALSCALE:GREGORIAN
BEGIN:VTIMEZONE
TZID:Australia/
BEGIN:STANDARD
TZOFFSETFROM:+1100
RRULE:FREQ=YEARLY;BYMONTH=4;BYDAY=1SU
DTSTART:20080406T030000
TZNAME:
TZOFFSETTO:+
END:STANDARD
BEGIN:DAYLIGHT
TZOFFSETFROM:+
RRULE:FREQ=YEARLY;BYMONTH=10;BYDAY=1SU
DTSTART:20081005T020000
TZNAME:AEDT
TZOFFSETTO:+1100
END:DAYLIGHT
END:VTIMEZONE
BEGIN:VEVENT
CREATED:20190228T154239
UID:Property20134899Inspection51682702
DTEND;TZID=Australia/:20190302T123000
TRANSP:OPAQUE
SUMMARY:Open For Inspection: 3 / 14 Byland Street, Doubleview
DESCRIPTION:Ideal Lock & Leave - Peacefully tucked away at the rear - is this delightful 3 bedroom, 2 bathroom home in a private group of 3 town residences. A light lavish two storey oasis situated in a coveted secure location directly opposite parkland. 
Warm and welcoming this impressive easy care home provides a ground floor lounge and kitchen dining zone where the glass doors extend to the living light filled shady courtyard at rear.  
Quality stainless appliances star in the smartly designed kitchen with lots of cupboard storage and perfectly positioned for indoor outdoor all-season entertaining.  For ultimate relaxation the alfresco  courtyard comes complete with below ground spa. 
Conveniently this home has both upstairs and downstairs shower and W.C.  
The upstairs main bedroom offers wall to wall mirrored robes and a sparkling semi en suite. The additional 2 bedrooms are also located upstairs away from the social hub of the home. Among the home's many highlights are auto garage with secure gated access Additional parking is available, Separate store room and, alarm system. All surrounded by low maintenance leafy reticulated gardens.
A wonderful location close to all essential amenities including Public & Private schools, bus stops and the ocean. No strata fees and opposite parkland. Less than 10 kms to CBD for an easy commute.  
Put this at the top of your 2019 List !
LAST-MODIFIED:20190228T154239
DTSTAMP:20190228T154239
DTSTART;TZID=Australia/:20190302T120000
LOCATION:3 / 14 Byland Street Doubleview WA 6018
URL:http://www.citytosurf.net.au/20134899
SEQUENCE:0
END:VEVENT
END:VCALENDAR
