BEGIN:VCALENDAR
VERSION:2.0
PRODID:-//Apple Inc.//iCal 5.0.2//EN
CALSCALE:GREGORIAN
BEGIN:VTIMEZONE
TZID:Australia/
BEGIN:STANDARD
TZOFFSETFROM:+1100
RRULE:FREQ=YEARLY;BYMONTH=4;BYDAY=1SU
DTSTART:20080406T030000
TZNAME:
TZOFFSETTO:+
END:STANDARD
BEGIN:DAYLIGHT
TZOFFSETFROM:+
RRULE:FREQ=YEARLY;BYMONTH=10;BYDAY=1SU
DTSTART:20081005T020000
TZNAME:AEDT
TZOFFSETTO:+1100
END:DAYLIGHT
END:VTIMEZONE
BEGIN:VEVENT
CREATED:20190228T160006
UID:Property20152856Inspection51668459
DTEND;TZID=Australia/:20190302T113000
TRANSP:OPAQUE
SUMMARY:Open For Inspection: 36 Lee Street, Warrawong
DESCRIPTION:Just Enjoy The Water Views - Delightful brick home with never to be built out water views 
ideal for families, couples or anyone looking for a space that's close to all things, this home gives you that and more. Low maintenance living at its best with 3 bedrooms, I bathroom, 1 garage, large combined kitchen/dining 
space, big lounge room built on a large block on the high side of the Street, a solid brick home. Quiet Street so close to Warrawong hub & shopping Plaza, "THE PLACE" with new restaurants/cafes/eateries/entertainment venues.
But the best is yet to come, and that's those permanent water views, when you wake up in the morning, as you live your days and relax throughout your evenings every time you walk in and out of your new home, sit and relax on your balcony, do nothing else JUST ENJOY THE WATER VIEWS.
LAST-MODIFIED:20190228T160006
DTSTAMP:20190228T160006
DTSTART;TZID=Australia/:20190302T110000
LOCATION:36 Lee Street Warrawong NSW 2502
URL:http://www.masterproperties.com.au/20152856
SEQUENCE:0
END:VEVENT
END:VCALENDAR
