BEGIN:VCALENDAR
VERSION:2.0
PRODID:-//Apple Inc.//iCal 5.0.2//EN
CALSCALE:GREGORIAN
BEGIN:VTIMEZONE
TZID:Australia/
BEGIN:STANDARD
TZOFFSETFROM:+1100
RRULE:FREQ=YEARLY;BYMONTH=4;BYDAY=1SU
DTSTART:20080406T030000
TZNAME:
TZOFFSETTO:+
END:STANDARD
BEGIN:DAYLIGHT
TZOFFSETFROM:+
RRULE:FREQ=YEARLY;BYMONTH=10;BYDAY=1SU
DTSTART:20081005T020000
TZNAME:AEDT
TZOFFSETTO:+1100
END:DAYLIGHT
END:VTIMEZONE
BEGIN:VEVENT
CREATED:20190228T155135
UID:Property20157776Inspection51683846
DTEND;TZID=Australia/:20190227T114500
TRANSP:OPAQUE
SUMMARY:Open For Inspection: 1/19 Eurimbula Court, PARADISE POINT
DESCRIPTION:SPACIOUS PET FRIENDLY DUPLEX-single storey-fully fenced yard with artificial lawn!-- - HIGHLIGHTS: - Single Storey  - Immaculate Original Presentation -  Near Bus Stop - Medium Size Block - 2 Bed - 1 Bath - Single Lock up garage - 1 Living Area - Walk to Shops.

KITCHEN: - Stainless steel appliances - plenty of bench and cupboard space - double sink

LIVING:  Open plan living / Lounge area -light and airy with ceiling fans - Large Linen cupboard

BEDROOMS: - 2 spacious bedrooms - built in robes - mirrors- 1 room with ceiling fan, 1 with small air conditioner

BATHROOMS: - Separate toilet  - bath tub - shower

OUTDOORS: - Private secure backyard with artificial grass- no more mowing! - fully fenced- pet friendly - clothes line

Garage can be used as another room, has air conditioning! and vinyl flooring

$400 per week , water and electricity extra

SMALL PETS ON APPLICATION

AVAILABLE 29/01/2019


12-18 MONTH LEASE


*** VIP**** INSPECTIONS

NEXT INSPECTION -

*****Please Register to join an existing inspection*******
If no time offered, please register so we can contact you once time is arranged

Please confirm your attendance, if no confirmation is received, inspection will be cancelled

If you do not register, we cannot notify you of any time changes, cancellations or further inspection times

VIP-IF NO REGISTRATIONS OR CONFIRMATIONS RECEIVED FOR INSPECTIONS THEY WILL BE CANCELLED

SCHOOL CATCHMENT ZONE:

Coombabah State School - 700m
Coombabah High School - 4.7km


DISTANCES:

Bus Stop - 100 m
Local Shops - 700 m
Major Shopping Centre - 4.1km


Highway - 9.4 km
Beach - 1.5 km
LAST-MODIFIED:20190228T155135
DTSTAMP:20190228T155135
DTSTART;TZID=Australia/:20190227T113000
LOCATION:1/19 Eurimbula Court PARADISE POINT QLD 4216
URL:http://www.hartsrealestate.com.au/20157776
SEQUENCE:0
END:VEVENT
END:VCALENDAR
