BEGIN:VCALENDAR
VERSION:2.0
PRODID:-//Apple Inc.//iCal 5.0.2//EN
CALSCALE:GREGORIAN
BEGIN:VTIMEZONE
TZID:Australia/
BEGIN:STANDARD
TZOFFSETFROM:+1100
RRULE:FREQ=YEARLY;BYMONTH=4;BYDAY=1SU
DTSTART:20080406T030000
TZNAME:
TZOFFSETTO:+
END:STANDARD
BEGIN:DAYLIGHT
TZOFFSETFROM:+
RRULE:FREQ=YEARLY;BYMONTH=10;BYDAY=1SU
DTSTART:20081005T020000
TZNAME:AEDT
TZOFFSETTO:+1100
END:DAYLIGHT
END:VTIMEZONE
BEGIN:VEVENT
CREATED:20190228T154311
UID:Property20158560Inspection51682715
DTEND;TZID=Australia/:20190302T113000
TRANSP:OPAQUE
SUMMARY:Open For Inspection: 87/99 Herdsman Parade, Wembley
DESCRIPTION:CUTE UNIT POOL ACCESS - This beautiful ground floor apartment suits professionals, investors, first home buyers, couples, or those looking for a low-maintenance city base in the Western Suburbs. 

In a central location, this appealing apartment is close to shops, schools, eateries, buses, Subiaco Train Station, and St John of God Hospital. It offers easy care and convenient living.
The complex offers a central courtyard and pool. Additionally, this corner apartment boasts:

• A spacious outdoor space
• 1 bedroom 
• Open plan living/dining
• Kitchen 
• Bathroom and Laundry 
• Car bay
• Aircon
LAST-MODIFIED:20190228T154311
DTSTAMP:20190228T154311
DTSTART;TZID=Australia/:20190302T110000
LOCATION:87/99 Herdsman Parade Wembley WA 6014
URL:http://www.citytosurf.net.au/20158560
SEQUENCE:0
END:VEVENT
END:VCALENDAR
