BEGIN:VCALENDAR
VERSION:2.0
PRODID:-//Apple Inc.//iCal 5.0.2//EN
CALSCALE:GREGORIAN
BEGIN:VTIMEZONE
TZID:Australia/
BEGIN:STANDARD
TZOFFSETFROM:+1100
RRULE:FREQ=YEARLY;BYMONTH=4;BYDAY=1SU
DTSTART:20080406T030000
TZNAME:
TZOFFSETTO:+
END:STANDARD
BEGIN:DAYLIGHT
TZOFFSETFROM:+
RRULE:FREQ=YEARLY;BYMONTH=10;BYDAY=1SU
DTSTART:20081005T020000
TZNAME:AEDT
TZOFFSETTO:+1100
END:DAYLIGHT
END:VTIMEZONE
BEGIN:VEVENT
CREATED:20190228T160226
UID:Property20160621Inspection51682688
DTEND;TZID=Australia/:20190228T103000
TRANSP:OPAQUE
SUMMARY:Open For Inspection: 1/305 Bondi Road , Bondi
DESCRIPTION:Boutique Bondi Pad, 500m to the Beach! - This first-floor apartment offers the quintessential Bondi lifestyle, perched just a short stroll down to the beach. A premium north aspect and valuable double garaging set this apartment apart, with well-presented interiors achieving the perfect balance of light and space. Placed only a short walk to buzzing beachfront eateries and cafes, Icebergs pool, Bondi Road specialty stores and buses.

•	Polished parquetry flooring, green outlooks & northern light
•	Living area with sliding glass doors offering indoor/outdoor flow
•	Covered balcony with mosaic-tiling & distant district views
•	Updated Caesarstone kitchen with stainless steel appliances
•	Dining zone with Caesarstone side bar & glass brick feature wall
•	Both bedrooms with built-in mirrored robes & green outlooks
•	Fully tiled coastal-schemed bathroom features a separate bath
•	Tandem lock-up garage, internal laundry plus air-conditioning
•	Secure access block of only nine with well-kept common areas
LAST-MODIFIED:20190228T160226
DTSTAMP:20190228T160226
DTSTART;TZID=Australia/:20190228T100000
LOCATION:1/305 Bondi Road  Bondi NSW 2026
URL:http://krulisresidential.com.au/20160621
SEQUENCE:0
END:VEVENT
END:VCALENDAR
