BEGIN:VCALENDAR
VERSION:2.0
PRODID:-//Apple Inc.//iCal 5.0.2//EN
CALSCALE:GREGORIAN
BEGIN:VTIMEZONE
TZID:Australia/
BEGIN:STANDARD
TZOFFSETFROM:+1100
RRULE:FREQ=YEARLY;BYMONTH=4;BYDAY=1SU
DTSTART:20080406T030000
TZNAME:
TZOFFSETTO:+
END:STANDARD
BEGIN:DAYLIGHT
TZOFFSETFROM:+
RRULE:FREQ=YEARLY;BYMONTH=10;BYDAY=1SU
DTSTART:20081005T020000
TZNAME:AEDT
TZOFFSETTO:+1100
END:DAYLIGHT
END:VTIMEZONE
BEGIN:VEVENT
CREATED:20190228T160240
UID:Property20163325Inspection51612104
DTEND;TZID=Australia/:20190227T173000
TRANSP:OPAQUE
SUMMARY:Open For Inspection: 141 Hazlemount Lane, TUCKURIMBA
DESCRIPTION:AUCTION - MORTGAGEE IN POSSESSION - Auction of 141 Hazlemount Lane Tuckurimba (Lots 1-2 DP 1191905) by the mortgagee in possession. 

The property is situated at the end of Hazlemount Lane and is approximately 60.87 Ha or 150.4 acres. 

There is a three bedroom weatherboard home situated on the property. The home has an open plan kitchen, dining and lounge room area. There is a spa/shower with a separate toilet.   A verandah wraps around three sides of the house and the house is located on a knoll with plenty of shade. 

On the farm there is a three bay shed which is 16m x 9m with a concrete floor and power connected. There is a windmill which pumps water to a concrete tank which is then reticulated to different troughs throughout the paddocks. 

The property is divided into six paddocks with the majority pasture improved with Sertaria and Rhodes grass. There is a good amount of trees for shade for cattle and the fences are in good to excellent condition.  

The estimated carrying capacity is between 50-60 breeders. 

The property is located twenty minutes from Lismore, forty minutes from Ballina and twenty five minutes from the beaches of Evans Head. The property is in a flood free area. 

The property will be auctioned on-site Saturday 9th March 2019 at 11am. 

Inspection is by appointment or during scheduled open homes.
LAST-MODIFIED:20190228T160240
DTSTAMP:20190228T160240
DTSTART;TZID=Australia/:20190227T170000
LOCATION:141 Hazlemount Lane TUCKURIMBA NSW 2480
URL:http://www.mccormackrealestate.com.au/20163325
SEQUENCE:0
END:VEVENT
END:VCALENDAR
