BEGIN:VCALENDAR
VERSION:2.0
PRODID:-//Apple Inc.//iCal 5.0.2//EN
CALSCALE:GREGORIAN
BEGIN:VTIMEZONE
TZID:Australia/
BEGIN:STANDARD
TZOFFSETFROM:+1100
RRULE:FREQ=YEARLY;BYMONTH=4;BYDAY=1SU
DTSTART:20080406T030000
TZNAME:
TZOFFSETTO:+
END:STANDARD
BEGIN:DAYLIGHT
TZOFFSETFROM:+
RRULE:FREQ=YEARLY;BYMONTH=10;BYDAY=1SU
DTSTART:20081005T020000
TZNAME:AEDT
TZOFFSETTO:+1100
END:DAYLIGHT
END:VTIMEZONE
BEGIN:VEVENT
CREATED:20190228T154251
UID:Property20166688Inspection51681159
DTEND;TZID=Australia/:20190302T111500
TRANSP:OPAQUE
SUMMARY:Open For Inspection: 1-3 66 Woodhill Avenue, COORPAROO
DESCRIPTION:3 New Townhomes just a walk to Martha St - Located just a short walk away from the popular Martha St precinct, local parks, popular schools, public transport and of course the new Coorparoo Square precinct, this is an amazing opportunity for savvy young executives, families or empty nesters downsizing to enjoy a low maintenance, quality lifestyle in a highly sought after location.


Each townhome comprises of a large open plan design with a modern kitchen, living & dining areas all with their own exclusive rear courtyards perfectly landscaped. Featuring french pattern travertine paving and blue stone rock walls, they provide desirable external living areas with full privacy that modern living requires. Architecturally designed, they are all light-filled with large living spaces with the comfort of ducted air conditioning throughout. 


The kitchens are wonderfully equipped with high quality 900mm ilve appliances, 80mm caesar stone bench-tops, ample storage, pantry and a breakfast bench all with microwaves and integrated dishwashers. 


Featuring an exposed timber staircase, you are welcomed by three spacious bedrooms. The master bedroom features a walk-in robe and luxurious ensuite - including double vanity and plenty of natural light. The other two bedrooms are serviced by a large central bathroom. 


Each bedroom has ducted air-conditioning, fans, 2700mm high ceilings and quality wardrobes including drawers.


Finished to the highest standard they will provided a great lifestyle choice for anyone wanting to be in the Coorparoo area and enjoy all that this low maintenance, stylish private living has to offer. 


Private inspections available by appointment or be sure to inspect during one of our open homes
LAST-MODIFIED:20190228T154251
DTSTAMP:20190228T154251
DTSTART;TZID=Australia/:20190302T104500
LOCATION:1-3 66 Woodhill Avenue COORPAROO QLD 4151
URL:http://www.coreea.com.au/20166688
SEQUENCE:0
END:VEVENT
END:VCALENDAR
