BEGIN:VCALENDAR
VERSION:2.0
PRODID:-//Apple Inc.//iCal 5.0.2//EN
CALSCALE:GREGORIAN
BEGIN:VTIMEZONE
TZID:Australia/
BEGIN:STANDARD
TZOFFSETFROM:+1100
RRULE:FREQ=YEARLY;BYMONTH=4;BYDAY=1SU
DTSTART:20080406T030000
TZNAME:
TZOFFSETTO:+
END:STANDARD
BEGIN:DAYLIGHT
TZOFFSETFROM:+
RRULE:FREQ=YEARLY;BYMONTH=10;BYDAY=1SU
DTSTART:20081005T020000
TZNAME:AEDT
TZOFFSETTO:+1100
END:DAYLIGHT
END:VTIMEZONE
BEGIN:VEVENT
CREATED:20190228T160011
UID:Property20167609Inspection51668461
DTEND;TZID=Australia/:20190302T123000
TRANSP:OPAQUE
SUMMARY:Open For Inspection: 6 Elouera Street, LAKE ILLAWARRA
DESCRIPTION:Buy The Potential - This 3 bedroom original home offers multiple opportunities. Choose to move in as is, choose to renovate or choose to knock down and develop into a potential 3 dwellings (STCA). On a large block, 628m2 next to a recreational park, on the high side of the road. Vendors have moved out of the Illawarra and keen to sell.
Come one and come all and Inspect.
Buy the potential that this charming original home has to offer today.
Don't let opportunity pass you by.
LAST-MODIFIED:20190228T160011
DTSTAMP:20190228T160011
DTSTART;TZID=Australia/:20190302T120000
LOCATION:6 Elouera Street LAKE ILLAWARRA NSW 2528
URL:http://www.masterproperties.com.au/20167609
SEQUENCE:0
END:VEVENT
END:VCALENDAR
