BEGIN:VCALENDAR
VERSION:2.0
PRODID:-//Apple Inc.//iCal 5.0.2//EN
CALSCALE:GREGORIAN
BEGIN:VTIMEZONE
TZID:Australia/
BEGIN:STANDARD
TZOFFSETFROM:+1100
RRULE:FREQ=YEARLY;BYMONTH=4;BYDAY=1SU
DTSTART:20080406T030000
TZNAME:
TZOFFSETTO:+
END:STANDARD
BEGIN:DAYLIGHT
TZOFFSETFROM:+
RRULE:FREQ=YEARLY;BYMONTH=10;BYDAY=1SU
DTSTART:20081005T020000
TZNAME:AEDT
TZOFFSETTO:+1100
END:DAYLIGHT
END:VTIMEZONE
BEGIN:VEVENT
CREATED:20190228T155050
UID:Property20168166Inspection51672784
DTEND;TZID=Australia/:19700101T000000
TRANSP:OPAQUE
SUMMARY:Open For Inspection: 1/47 Settlers Crescent, Bligh Park
DESCRIPTION:Family Sized Duplex - * 3 Bedrooms, all with built-ins
* Generous living areas
* Internal access to single garage
* Very private rear yard
* Covered pergola
* Ducted air conditioning throughout
LAST-MODIFIED:20190228T155050
DTSTAMP:20190228T155050
DTSTART;TZID=Australia/:19700101T100000
LOCATION:1/47 Settlers Crescent Bligh Park NSW 2756
URL:http://www.greenwoodgroup.com.au/20168166
SEQUENCE:0
END:VEVENT
END:VCALENDAR
