BEGIN:VCALENDAR
VERSION:2.0
PRODID:-//Apple Inc.//iCal 5.0.2//EN
CALSCALE:GREGORIAN
BEGIN:VTIMEZONE
TZID:Australia/
BEGIN:STANDARD
TZOFFSETFROM:+1100
RRULE:FREQ=YEARLY;BYMONTH=4;BYDAY=1SU
DTSTART:20080406T030000
TZNAME:
TZOFFSETTO:+
END:STANDARD
BEGIN:DAYLIGHT
TZOFFSETFROM:+
RRULE:FREQ=YEARLY;BYMONTH=10;BYDAY=1SU
DTSTART:20081005T020000
TZNAME:AEDT
TZOFFSETTO:+1100
END:DAYLIGHT
END:VTIMEZONE
BEGIN:VEVENT
CREATED:20190228T155249
UID:Property20169625Inspection51680918
DTEND;TZID=Australia/:20190302T104500
TRANSP:OPAQUE
SUMMARY:Open For Inspection: 195A Pennant Hills Road, THORNLEIGH
DESCRIPTION:Absolutely Stunning! - Deceptively quiet and privately positioned is this near new exquisite free standing garden home.

Nestled on a pretty easy care garden block with a lovely leafy outlook.

Beautifully appointed and presented throughout with a great open plan concept.

Comprises of 2 good size bedroom both with built in's 

Delightful open plan living flowing onto a sensational undercover alfresco entertaining area.

Magnificent kitchen with ample cupboards, stone bench top and quality fixtures and inclusions.

Lovely main bathroom with large separate shower recess and vanity.

Features high ceilings, air conditioning, quality blinds and vogue decor and 2 car space.

Situated in a handy location only a short level walk to train station, Thornleigh shopping centre, Woolworths and Aldi.

Easy access to both M1 and M2. 

TO VIEW PROPERTY ON INSPECTION DAY, ENTER DRIVEWAY AT 195A AND DRIVE DOWN TO THE PROPERTY OR PARK IN NELSON STREET AND WALK.

PLEASE NOTE: Do NOT enter the premises without being accompanied by a Real Estate Agent.

Disclaimer: "We have been furnished with the above information, however, Homefront give no guarantees, undertakings or warnings concerning the accuracy, completeness or up-to-date nature of the information provided.  All interested parties are responsible for their own independent enquiries in order to determine whether or not this information is in fact accurate.  The property is subject to prior lease or withdrawal."

LAST-MODIFIED:20190228T155249
DTSTAMP:20190228T155249
DTSTART;TZID=Australia/:20190302T103000
LOCATION:195A Pennant Hills Road THORNLEIGH NSW 2120
URL:http://www.homefront.com.au/20169625
SEQUENCE:0
END:VEVENT
END:VCALENDAR
