BEGIN:VCALENDAR
VERSION:2.0
PRODID:-//Apple Inc.//iCal 5.0.2//EN
CALSCALE:GREGORIAN
BEGIN:VTIMEZONE
TZID:Australia/
BEGIN:STANDARD
TZOFFSETFROM:+1100
RRULE:FREQ=YEARLY;BYMONTH=4;BYDAY=1SU
DTSTART:20080406T030000
TZNAME:
TZOFFSETTO:+
END:STANDARD
BEGIN:DAYLIGHT
TZOFFSETFROM:+
RRULE:FREQ=YEARLY;BYMONTH=10;BYDAY=1SU
DTSTART:20081005T020000
TZNAME:AEDT
TZOFFSETTO:+1100
END:DAYLIGHT
END:VTIMEZONE
BEGIN:VEVENT
CREATED:20190228T155036
UID:Property20169821Inspection51685394
DTEND;TZID=Australia/:20190302T133000
TRANSP:OPAQUE
SUMMARY:Open For Inspection: 2/27 Woods Road, South Windsor
DESCRIPTION:PRIVATE AND PEACEFUL - * Two bedrooms with built in wardrobes, ceiling fan to main
* Large open plan living/dining area off kitchen
* Fantastic kitchen with double oven and corner pantry, double sink
* Undercover entertainment area and plenty of yard
* Carport
* Garden shed
* Internal laundry
* Split system air conditioning
* NO STRATA FEES
* Walk to schools, shops and transport
LAST-MODIFIED:20190228T155036
DTSTAMP:20190228T155036
DTSTART;TZID=Australia/:20190302T130000
LOCATION:2/27 Woods Road South Windsor NSW 2756
URL:http://www.greenwoodgroup.com.au/20169821
SEQUENCE:0
END:VEVENT
END:VCALENDAR
