BEGIN:VCALENDAR
VERSION:2.0
PRODID:-//Apple Inc.//iCal 5.0.2//EN
CALSCALE:GREGORIAN
BEGIN:VTIMEZONE
TZID:Australia/
BEGIN:STANDARD
TZOFFSETFROM:+1100
RRULE:FREQ=YEARLY;BYMONTH=4;BYDAY=1SU
DTSTART:20080406T030000
TZNAME:
TZOFFSETTO:+
END:STANDARD
BEGIN:DAYLIGHT
TZOFFSETFROM:+
RRULE:FREQ=YEARLY;BYMONTH=10;BYDAY=1SU
DTSTART:20081005T020000
TZNAME:AEDT
TZOFFSETTO:+1100
END:DAYLIGHT
END:VTIMEZONE
BEGIN:VEVENT
CREATED:20190228T155733
UID:Property20171858Inspection51680119
DTEND;TZID=Australia/:20190302T143000
TRANSP:OPAQUE
SUMMARY:Open For Inspection: 37 Erle Street, Carlton River
DESCRIPTION:Treat yourself - Absolute waterfront! - Offering privacy from the road with high fences and stunning water views of Carlton River. Good land size of 1012sqm, 3-bedroom residence, large shed with solar panels and located at the end of a no through road. 

The main residence features open-plan living, kitchen and dining. Kitchen has had a makeover with new bench tops and cupboards, freshly painted throughout, three good sized bedrooms. The living is light and bright with the gorgeous views of Carlton River and access to the sun deck - the perfect spot to relax and unwind. Main bathroom with shower and new basin and combined laundry for added convenience. 

Outside the grounds a well landscaped with retaining walls and native plants, Entertaining is a breeze thanks to the large paved area with a pizza oven, the large shed is 6 x 12m in size with a concrete slab and Solar panels on the roof. 
Make your way to the waters edge, fish for your tea or take a refreshing swim in the river. 

The land next door is also for sale (39 Erle Street, Carlton River) if you are looking for extra space, buy one or buy both. 

Dodges Ferry is only minutes away and has everything you need for everyday living requirements including the Hill Street Grocer, local Butcher, Bakery, Doctors, Chemist, News Agency, Post Office and local Hairdressers.

This property offers a great lifestyle within only a short drive to Carlton beach, approximately 15 minutes to Sorell, 40 minutes to Hobart CBD and 30 minutes to Hobart Airport.

LAST-MODIFIED:20190228T155733
DTSTAMP:20190228T155733
DTSTART;TZID=Australia/:20190302T140000
LOCATION:37 Erle Street Carlton River TAS 7173
URL:http://www.katestoreyrealty.com.au/20171858
SEQUENCE:0
END:VEVENT
END:VCALENDAR
