BEGIN:VCALENDAR
VERSION:2.0
PRODID:-//Apple Inc.//iCal 5.0.2//EN
CALSCALE:GREGORIAN
BEGIN:VTIMEZONE
TZID:Australia/
BEGIN:STANDARD
TZOFFSETFROM:+1100
RRULE:FREQ=YEARLY;BYMONTH=4;BYDAY=1SU
DTSTART:20080406T030000
TZNAME:
TZOFFSETTO:+
END:STANDARD
BEGIN:DAYLIGHT
TZOFFSETFROM:+
RRULE:FREQ=YEARLY;BYMONTH=10;BYDAY=1SU
DTSTART:20081005T020000
TZNAME:AEDT
TZOFFSETTO:+1100
END:DAYLIGHT
END:VTIMEZONE
BEGIN:VEVENT
CREATED:20190228T154241
UID:Property20172311Inspection51687673
DTEND;TZID=Australia/:20190228T173000
TRANSP:OPAQUE
SUMMARY:Open For Inspection: 48 Ashdale Boulevard, DARCH
DESCRIPTION:WHEN SIZE MATTERS + S/C FLAT - iDEAL FOR THE EXTENDED FAMILY WITH SELF CONTAINED ONE BEDROOM FLAT. 
4 Bedrooms and Office + flat also
Open pla big living area plus rear TV /office area

good seperation with parents retreat or teenage retreat. 
Large Block
AIR -CONDITIONING
ELECTRIC ROLLER SHUTTERS TO THE FRONT
LOW MAINTENANCE GARDENS
SHED
2 WATER TANKS
LAST-MODIFIED:20190228T154241
DTSTAMP:20190228T154241
DTSTART;TZID=Australia/:20190228T171500
LOCATION:48 Ashdale Boulevard DARCH WA 6065
URL:http://www.citytosurf.net.au/20172311
SEQUENCE:0
END:VEVENT
END:VCALENDAR
