BEGIN:VCALENDAR
VERSION:2.0
PRODID:-//Apple Inc.//iCal 5.0.2//EN
CALSCALE:GREGORIAN
BEGIN:VTIMEZONE
TZID:Australia/
BEGIN:STANDARD
TZOFFSETFROM:+1100
RRULE:FREQ=YEARLY;BYMONTH=4;BYDAY=1SU
DTSTART:20080406T030000
TZNAME:
TZOFFSETTO:+
END:STANDARD
BEGIN:DAYLIGHT
TZOFFSETFROM:+
RRULE:FREQ=YEARLY;BYMONTH=10;BYDAY=1SU
DTSTART:20081005T020000
TZNAME:AEDT
TZOFFSETTO:+1100
END:DAYLIGHT
END:VTIMEZONE
BEGIN:VEVENT
CREATED:20190228T154904
UID:Property20173140Inspection51680596
DTEND;TZID=Australia/:20190228T180000
TRANSP:OPAQUE
SUMMARY:Open For Inspection: 2/16-18 Harbury Street, RESERVOIR
DESCRIPTION:Laudable Location - This double story two bedroom townhouse faces the street and is in a great location being only 5-10 minute walk from Edwardes Street shop, Reservoir Station and Edwardes Lake.

The home offers an elegant lounge and a well lit kitchen with views to the backyard. Upstairs is the main bathroom central to two of the bedrooms. The bedrooms both feature split system cooling units as well as ducted heating in the house provide comfort throughout the seasons.

A single lock up garage to keep the car safe with an additional car park in front adds to the appeal.


LAST-MODIFIED:20190228T154904
DTSTAMP:20190228T154904
DTSTART;TZID=Australia/:20190228T173000
LOCATION:2/16-18 Harbury Street RESERVOIR VIC 3073
URL:http://www.equitylinks.com.au/20173140
SEQUENCE:0
END:VEVENT
END:VCALENDAR
