BEGIN:VCALENDAR
VERSION:2.0
PRODID:-//Apple Inc.//iCal 5.0.2//EN
CALSCALE:GREGORIAN
BEGIN:VTIMEZONE
TZID:Australia/
BEGIN:STANDARD
TZOFFSETFROM:+1100
RRULE:FREQ=YEARLY;BYMONTH=4;BYDAY=1SU
DTSTART:20080406T030000
TZNAME:
TZOFFSETTO:+
END:STANDARD
BEGIN:DAYLIGHT
TZOFFSETFROM:+
RRULE:FREQ=YEARLY;BYMONTH=10;BYDAY=1SU
DTSTART:20081005T020000
TZNAME:AEDT
TZOFFSETTO:+1100
END:DAYLIGHT
END:VTIMEZONE
BEGIN:VEVENT
CREATED:20190228T154249
UID:Property20173426Inspection51681146
DTEND;TZID=Australia/:20190302T100000
TRANSP:OPAQUE
SUMMARY:Open For Inspection: 23 Napier St, ASCOT
DESCRIPTION:Just completed - last freehold townhome in bluechip location! - This amazing new subtropical freehold townhome is sure to impress any astute buyer.

If you are looking for a maintenance free, modern, high-end, sophisticated townhome in one of the best locations in Brisbane, look no further. 

Sitting on a large individually titled lot of 212sqm, this architecturally designed townhome ticks all the boxes when it comes to size, high end features and finishes whilst situated in one of the most desirable locations in Brisbane. 

Only a stones throw from Ascot racecourse, the airport, Doomben train station and the racecourse road precinct, you will be amazed at the clever use of space, natural light and privacy this property delivers.

It features;

- Black matte tape-ware
- Natural hardwood timber floors
- Travertine tiles inside and out
- 900mm Illve appliances
- Stacked stone feature walls 
- Private courtyard
- Ample storage
- Split system air conditioning/heating throughout

Plus much more!!

Contact Matt for more information on 0421441044 or mwall@coreea.com.au
LAST-MODIFIED:20190228T154249
DTSTAMP:20190228T154249
DTSTART;TZID=Australia/:20190302T093000
LOCATION:23 Napier St ASCOT QLD 4007
URL:http://www.coreea.com.au/20173426
SEQUENCE:0
END:VEVENT
END:VCALENDAR
