BEGIN:VCALENDAR
VERSION:2.0
PRODID:-//Apple Inc.//iCal 5.0.2//EN
CALSCALE:GREGORIAN
BEGIN:VTIMEZONE
TZID:Australia/
BEGIN:STANDARD
TZOFFSETFROM:+1100
RRULE:FREQ=YEARLY;BYMONTH=4;BYDAY=1SU
DTSTART:20080406T030000
TZNAME:
TZOFFSETTO:+
END:STANDARD
BEGIN:DAYLIGHT
TZOFFSETFROM:+
RRULE:FREQ=YEARLY;BYMONTH=10;BYDAY=1SU
DTSTART:20081005T020000
TZNAME:AEDT
TZOFFSETTO:+1100
END:DAYLIGHT
END:VTIMEZONE
BEGIN:VEVENT
CREATED:20190228T155731
UID:Property20174824Inspection51680176
DTEND;TZID=Australia/:20190302T133000
TRANSP:OPAQUE
SUMMARY:Open For Inspection: 42 Moomere Street, Carlton
DESCRIPTION:EASY SUMMER LIVING - Located in a gorgeous seaside community, this well-presented home is ready to move in and enjoy. This well-loved home provides the ultimate lifestyle and would be appealing for first home buyers, investors or those downsizing and wanting to move to a beachside location.

The home offers a neat, tidy kitchen - and dining area with solid timber floors throughout - separate modern laundry off the kitchen for added convenience. Light and airy separate living area with heat pump keeping the home warm in the winter months. Make your way down a couple of stairs to the three bedrooms, a tidy modern bathroom and access to the back yard. Underneath the home is another room for storage - or use it how you want, studio for your creative work or rumpus for the kids. 

The gardens are beautifully landscaped, a large concrete entertaining area is in place at the back of the home - a perfect spot to entertain your family and friends. Also included is a garden shed. Fruit trees feature in the front garden and bright green grass giving the home a good street appeal. 

Dodges Ferry is a popular area and offers beautiful beaches, cafes, local Hill Street Grocer, boat ramp and a local Primary School. Approx. 15 minutes away from the township of Sorell where you will find everything else you require for everyday living requirements. 

LAST-MODIFIED:20190228T155731
DTSTAMP:20190228T155731
DTSTART;TZID=Australia/:20190302T130000
LOCATION:42 Moomere Street Carlton TAS 7173
URL:http://www.katestoreyrealty.com.au/20174824
SEQUENCE:0
END:VEVENT
END:VCALENDAR
