BEGIN:VCALENDAR
VERSION:2.0
PRODID:-//Apple Inc.//iCal 5.0.2//EN
CALSCALE:GREGORIAN
BEGIN:VTIMEZONE
TZID:Australia/
BEGIN:STANDARD
TZOFFSETFROM:+1100
RRULE:FREQ=YEARLY;BYMONTH=4;BYDAY=1SU
DTSTART:20080406T030000
TZNAME:
TZOFFSETTO:+
END:STANDARD
BEGIN:DAYLIGHT
TZOFFSETFROM:+
RRULE:FREQ=YEARLY;BYMONTH=10;BYDAY=1SU
DTSTART:20081005T020000
TZNAME:AEDT
TZOFFSETTO:+1100
END:DAYLIGHT
END:VTIMEZONE
BEGIN:VEVENT
CREATED:20190228T155255
UID:Property20176407Inspection51684230
DTEND;TZID=Australia/:20190302T120000
TRANSP:OPAQUE
SUMMARY:Open For Inspection: 24 Vaughan Avenue, PENNANT HILLS
DESCRIPTION:Deceased Estate -  Perfect Block! - Magnificent level app 924 sqm North East back garden with wide frontage. 

Every inch usable with no easement or main sewerage line....

Dimensions - app 18m frontage x 50m depth

Excellent opportunity to build your dream home. 

Premier location in desirable and most sought after street. 
 
Solid full brick home with 2 large bedrooms.

Features high ceilings, wide ornate cornices and timber flooring.

Formal lounge and separate dining room. 

Original kitchen and bathroom in good condition. 

Internal laundry with additional toilet 

Spacious outdoor undercover patio with wet bar and slate floor covers. 

Single lock up garage with internal access plus free standing garage / shed. 

Situated in a premier locale and is within close proximity to Pennant Hills Rail, Shopping Village and library.

Short walk to a selection of great schools in the area - St Agatha's Primary, Pennant Hills Primary and Pennant Hills High School.

This magnificent property will provide the ultimate blank canvass to build your dream home.

To be auctioned on site Saturday 23rd March 2019 @ 12.00pm. 

Disclaimer: "We have been furnished with the above information, however, Homefront give no guarantees, undertakings or warnings concerning the accuracy, completeness or up-to-date nature of the information provided.  All interested parties are responsible for their own independent enquiries in order to determine whether or not this information is in fact accurate."


LAST-MODIFIED:20190228T155255
DTSTAMP:20190228T155255
DTSTART;TZID=Australia/:20190302T111500
LOCATION:24 Vaughan Avenue PENNANT HILLS NSW 2120
URL:http://www.homefront.com.au/20176407
SEQUENCE:0
END:VEVENT
END:VCALENDAR
