BEGIN:VCALENDAR
VERSION:2.0
PRODID:-//Apple Inc.//iCal 5.0.2//EN
CALSCALE:GREGORIAN
BEGIN:VTIMEZONE
TZID:Australia/
BEGIN:STANDARD
TZOFFSETFROM:+1100
RRULE:FREQ=YEARLY;BYMONTH=4;BYDAY=1SU
DTSTART:20080406T030000
TZNAME:
TZOFFSETTO:+
END:STANDARD
BEGIN:DAYLIGHT
TZOFFSETFROM:+
RRULE:FREQ=YEARLY;BYMONTH=10;BYDAY=1SU
DTSTART:20081005T020000
TZNAME:AEDT
TZOFFSETTO:+1100
END:DAYLIGHT
END:VTIMEZONE
BEGIN:VEVENT
CREATED:20190228T155032
UID:Property20176413Inspection51684672
DTEND;TZID=Australia/:19700101T000000
TRANSP:OPAQUE
SUMMARY:Open For Inspection: 20 HALE CRESENT, SOUTH WINDSOR
DESCRIPTION:Fabulous 4 Bedder + Garage - * Large open plan living 
* Modern kitchen with GAS cook-top & Island bench
* 4 bedrooms all with  robes
* Modern bathroom 
* Ensuite to main
* Big lock up garage with auto-door
* Large back yard
* Easy care lawns & gardens 
* Split system R/C air-con
* Alarm with remote on-off
LAST-MODIFIED:20190228T155032
DTSTAMP:20190228T155032
DTSTART;TZID=Australia/:19700101T100000
LOCATION:20 HALE CRESENT SOUTH WINDSOR NSW 2756
URL:http://www.greenwoodgroup.com.au/20176413
SEQUENCE:0
END:VEVENT
END:VCALENDAR
